BEGIN:VCALENDAR
VERSION:2.0
PRODID:-//Ophthalmology &amp; Visual Sciences//NONSGML Events//EN
CALSCALE:GREGORIAN
X-ORIGINAL-URL:https://ophthalmology.wustl.edu/calendar/
X-WR-CALDESC:Ophthalmology &amp; Visual Sciences - Events
BEGIN:VEVENT
UID:20220824T1225Z-1661343925.1485-EO-18667-1@172.23.128.19
STATUS:CONFIRMED
DTSTAMP:20260425T202652Z
CREATED:20220822T023542Z
LAST-MODIFIED:20221014T191958Z
DTSTART;TZID=America/Chicago:20221020T100000
DTEND;TZID=America/Chicago:20221020T110000
SUMMARY: Vision Science Seminar-10/20
DESCRIPTION: Vision Science Seminar “Cellular and Molecular Dynamics Shapin
 g the Vertebrate Eye” Presented by Kristen Kwan\,  PhD Associate Professor 
 of Human Genetics and Adjunct Associate Professor of Ophthalmology and Visu
 al Sciences The University of Utah\, Salt Lake City\, Utah *Please contact 
 hughestraciem@wustl.edu for Zoom details
X-ALT-DESC;FMTTYPE=text/html: <h4 style="text-align: center\;">Vision Scien
 ce Seminar</h4><p style="text-align: center\;"><em><strong>"Cellular and Mo
 lecular Dynamics Shaping the Vertebrate Eye"</strong></em></p><p style="tex
 t-align: center\;">Presented by</p><p style="text-align: center\;"><a href=
 "https://bioscience.utah.edu/faculty/kwan/">Kristen Kwan\,  PhD</a></p><p s
 tyle="text-align: center\;">Associate Professor of Human Genetics and Adjun
 ct Associate Professor of Ophthalmology and Visual Sciences</p><p style="te
 xt-align: center\;">The University of Utah\, Salt Lake City\, Utah</p><p st
 yle="text-align: center\;"><strong>*Please contact </strong><a href="mailto
 :hughestraciem@wustl.edu"><strong>hughestraciem@wustl.edu</strong></a><stro
 ng> for Zoom details</strong></p>
CATEGORIES:All,Vision Science Seminar
LOCATION:Maternity Building 7th floor Conference room 725
GEO:38.636054;-90.263014
ORGANIZER;CN="Katy":MAILTO:kpaglusch@wustl.edu
URL;VALUE=URI:https://ophthalmology.wustl.edu/calendar/event/vision-science
 -seminar-10-20/
END:VEVENT
BEGIN:VTIMEZONE
TZID:America/Chicago
BEGIN:DAYLIGHT
TZOFFSETFROM:-0600
TZOFFSETTO:-0500
DTSTART:20220313T080000
TZNAME:CDT
END:DAYLIGHT
END:VTIMEZONE
END:VCALENDAR
