BEGIN:VCALENDAR
VERSION:2.0
PRODID:-//Ophthalmology &amp; Visual Sciences//NONSGML Events//EN
CALSCALE:GREGORIAN
X-ORIGINAL-URL:https://ophthalmology.wustl.edu/calendar/
X-WR-CALDESC:Ophthalmology &amp; Visual Sciences - Events
BEGIN:VEVENT
UID:20210926T1504Z-1632668660.178-EO-13993-1@172.23.128.18
STATUS:CONFIRMED
DTSTAMP:20260424T200944Z
CREATED:20210825T163622Z
LAST-MODIFIED:20210928T171458Z
DTSTART;TZID=America/Chicago:20211007T100000
DTEND;TZID=America/Chicago:20211007T110000
SUMMARY: Vision Science Seminar -10/7
DESCRIPTION: Vision Science Seminar “Vision From Dendrites to Pathways” Pre
 sented by Daniel Kerschensteiner\, MD Professor\, Department of Ophthalmolo
 gy and Visual Sciences\; Vice Chair for Research Washington University Scho
 ol of Medicine
X-ALT-DESC;FMTTYPE=text/html: <p style="text-align: center\;"><strong>Visio
 n Science Seminar</strong></p><p style="text-align: center\;">"Vision From 
 Dendrites to Pathways"</p><p style="text-align: center\;">Presented by</p><
 p style="text-align: center\;"><a href="https://ophthalmology.wustl.edu/peo
 ple/daniel-kerschensteiner-md/">Daniel Kerschensteiner\, MD</a></p><p style
 ="text-align: center\;">Professor\, Department of Ophthalmology and Visual 
 Sciences\; Vice Chair for Research</p><p style="text-align: center\;">Washi
 ngton University School of Medicine</p>
CATEGORIES:All,Vision Science Seminar
LOCATION:Maternity Building 7th floor Conference room 725
GEO:38.636054;-90.263014
ORGANIZER;CN="Katy":MAILTO:kpaglusch@wustl.edu
URL;VALUE=URI:https://ophthalmology.wustl.edu/calendar/event/vision-science
 -seminar-10-7/
END:VEVENT
BEGIN:VTIMEZONE
TZID:America/Chicago
BEGIN:DAYLIGHT
TZOFFSETFROM:-0600
TZOFFSETTO:-0500
DTSTART:20210314T080000
TZNAME:CDT
END:DAYLIGHT
END:VTIMEZONE
END:VCALENDAR
