BEGIN:VCALENDAR
VERSION:2.0
PRODID:-//Ophthalmology &amp; Visual Sciences//NONSGML Events//EN
CALSCALE:GREGORIAN
X-ORIGINAL-URL:https://ophthalmology.wustl.edu/calendar/
X-WR-CALDESC:Ophthalmology &amp; Visual Sciences - Events
BEGIN:VEVENT
UID:20210928T0441Z-1632804115.9797-EO-14005-1@172.23.128.18
STATUS:CONFIRMED
DTSTAMP:20260424T201026Z
CREATED:20210825T164452Z
LAST-MODIFIED:20211028T155430Z
DTSTART;TZID=America/Chicago:20211104T100000
DTEND;TZID=America/Chicago:20211104T110000
SUMMARY: Vision Science Seminar-11/4
DESCRIPTION: Vision Science Seminar “Feeding the Hungry Brain: Metabolic Re
 gulation of Synaptic Function” Presented by Ghazal Ashrafi\, PhD Assistant 
 Professor of Cell Biology and Physiology Washington University School of Me
 dicine
X-ALT-DESC;FMTTYPE=text/html: <p style="text-align: center\;"><strong>Visio
 n Science Seminar</strong></p><p style="text-align: center\;"><em>"Feeding 
 the Hungry Brain: Metabolic Regulation of Synaptic Function"</em></p><p sty
 le="text-align: center\;">Presented by</p><p style="text-align: center\;"><
 a href="http://cellbiology.wustl.edu/People/Faculty/ashrafi_g"><b>Ghazal As
 hrafi\, PhD</b></a></p><p style="text-align: center\;">Assistant Professor 
 of Cell Biology and Physiology</p><p style="text-align: center\;">Washingto
 n University School of Medicine</p>
CATEGORIES:All,Vision Science Seminar
LOCATION:Maternity Building 7th floor Conference room 725
GEO:38.636054;-90.263014
ORGANIZER;CN="Katy":MAILTO:kpaglusch@wustl.edu
URL;VALUE=URI:https://ophthalmology.wustl.edu/calendar/event/vision-science
 -seminar-11-4/
END:VEVENT
BEGIN:VTIMEZONE
TZID:America/Chicago
BEGIN:DAYLIGHT
TZOFFSETFROM:-0500
TZOFFSETTO:-0500
DTSTART:20210314T080000
TZNAME:CDT
END:DAYLIGHT
END:VTIMEZONE
END:VCALENDAR
