BEGIN:VCALENDAR
VERSION:2.0
PRODID:-//Ophthalmology &amp; Visual Sciences//NONSGML Events//EN
CALSCALE:GREGORIAN
X-ORIGINAL-URL:https://ophthalmology.wustl.edu/calendar/
X-WR-CALDESC:Ophthalmology &amp; Visual Sciences - Events
BEGIN:VEVENT
UID:20211010T0343Z-1633837417.8275-EO-6739-1@172.23.128.19
STATUS:CONFIRMED
DTSTAMP:20260425T155142Z
CREATED:20200421T165326Z
LAST-MODIFIED:20200421T165326Z
DTSTART;TZID=America/Chicago:20200109T120000
DTEND;TZID=America/Chicago:20200109T130000
SUMMARY: Vision Science Seminar
DESCRIPTION: Vision Science Seminar Presented By Carla Siegfried MD Jacquel
 yn E. and Allan E. Kolker\, MD\, Distinguished Professor Ophthalmology & Vi
 sual Sciences Washington University School of Medicine “Racial Disparities 
 of Open Angle Glaucoma: “seq” and you shall find…Insights on Genetics and P
 athophysiology”
X-ALT-DESC;FMTTYPE=text/html: <h3 style="text-align: center\;">Vision Scien
 ce Seminar</h3><p style="text-align: center\;">Presented By</p><p style="te
 xt-align: center\;"><a href="https://ophthalmology.wustl.edu/people/carla-s
 iegfried-md/">Carla Siegfried MD</a></p><p style="text-align: center\;">Jac
 quelyn E. and Allan E. Kolker\, MD\, Distinguished Professor</p><p style="t
 ext-align: center\;">Ophthalmology & Visual Sciences</p><p style="text-alig
 n: center\;">Washington University School of Medicine</p><p style="text-ali
 gn: center\;">"Racial Disparities of Open Angle Glaucoma: "seq" and you sha
 ll find...Insights on Genetics and Pathophysiology"</p>
CATEGORIES:All,Vision Science Seminar
LOCATION:Maternity Building 7th floor Conference room 725
GEO:38.636054;-90.263014
ORGANIZER;CN="Zach":MAILTO:zflauaus@wustl.edu
URL;VALUE=URI:https://ophthalmology.wustl.edu/calendar/event/vision-science
 -seminar-11/
END:VEVENT
BEGIN:VTIMEZONE
TZID:America/Chicago
BEGIN:STANDARD
TZOFFSETFROM:-0500
TZOFFSETTO:-0600
DTSTART:20191103T070000
TZNAME:CST
END:STANDARD
END:VTIMEZONE
END:VCALENDAR
