BEGIN:VCALENDAR
VERSION:2.0
PRODID:-//Ophthalmology &amp; Visual Sciences//NONSGML Events//EN
CALSCALE:GREGORIAN
X-ORIGINAL-URL:https://ophthalmology.wustl.edu/calendar/
X-WR-CALDESC:Ophthalmology &amp; Visual Sciences - Events
BEGIN:VEVENT
UID:20210928T0442Z-1632804122.1838-EO-14008-1@172.23.128.18
STATUS:CONFIRMED
DTSTAMP:20260424T201025Z
CREATED:20210825T165553Z
LAST-MODIFIED:20211115T181229Z
DTSTART;TZID=America/Chicago:20211202T100000
DTEND;TZID=America/Chicago:20211202T110000
SUMMARY: Vision Science Seminar- 12/2
DESCRIPTION: Vision Science Seminar “Gene Therapy for Optic Nerve Atrophy i
 n Wolfram Syndrome\, A Prototype ER Stress Disorder” Presented by Fumihiko 
 Urano\, MD\, PhD Samuel E. Schechter Professor of Medicine\, Professor of M
 edicine and Pathology and Immunology Washington University School of Medici
 ne
X-ALT-DESC;FMTTYPE=text/html: <p style="text-align: center\;"><strong>Visio
 n Science Seminar</strong></p><p style="text-align: center\;"><em><strong>"
 Gene Therapy for Optic Nerve Atrophy in Wolfram Syndrome\, A Prototype ER S
 tress Disorder"</strong></em></p><p style="text-align: center\;">Presented 
 by</p><p style="text-align: center\;"><a href="https://endocrinology.wustl.
 edu/people/fumihiko-urano-md-phd/"><strong>Fumihiko Urano\, MD\, PhD</stron
 g></a></p><p style="text-align: center\;">Samuel E. Schechter Professor of 
 Medicine\, Professor of Medicine and Pathology and Immunology</p><p style="
 text-align: center\;">Washington University School of Medicine</p>
CATEGORIES:All,Vision Science Seminar
LOCATION:Maternity Building 7th floor Conference room 725
GEO:38.636054;-90.263014
ORGANIZER;CN="Katy":MAILTO:kpaglusch@wustl.edu
URL;VALUE=URI:https://ophthalmology.wustl.edu/calendar/event/vision-science
 -seminar-12-2/
END:VEVENT
BEGIN:VTIMEZONE
TZID:America/Chicago
BEGIN:STANDARD
TZOFFSETFROM:-0500
TZOFFSETTO:-0600
DTSTART:20211107T070000
TZNAME:CST
END:STANDARD
END:VTIMEZONE
END:VCALENDAR
