BEGIN:VCALENDAR
VERSION:2.0
PRODID:-//Ophthalmology &amp; Visual Sciences//NONSGML Events//EN
CALSCALE:GREGORIAN
X-ORIGINAL-URL:https://ophthalmology.wustl.edu/calendar/
X-WR-CALDESC:Ophthalmology &amp; Visual Sciences - Events
BEGIN:VEVENT
UID:20220824T1256Z-1661345776.7446-EO-18679-1@172.23.128.19
STATUS:CONFIRMED
DTSTAMP:20260424T200955Z
CREATED:20220822T033626Z
LAST-MODIFIED:20221202T185200Z
DTSTART;TZID=America/Chicago:20221208T100000
DTEND;TZID=America/Chicago:20221208T110000
SUMMARY: Vision Science Seminar-12/8
DESCRIPTION: Vision Science Seminar “Deciphering the Molecular Mechanisms o
 f Retinal Wiring” Presented by Elizabeth Zuniga-Sanchez\,  PhD Assistant Pr
 ofessor\, Ophthalmology\, Dept. of Ophthalmology Baylor College of Medicine
 \, Houston\, TX   *Please contact hughestraciem@wustl.edu for Zoom details
X-ALT-DESC;FMTTYPE=text/html: <h4 style="text-align: center\;">Vision Scien
 ce Seminar</h4><p style="text-align: center\;"><em><strong>"Deciphering the
  Molecular Mechanisms of Retinal Wiring"</strong></em></p><p style="text-al
 ign: center\;">Presented by</p><p style="text-align: center\;"><a href="htt
 ps://www.bcm.edu/people-search/elizabeth-zuniga-sanchez-34596">Elizabeth Zu
 niga-Sanchez\,  PhD</a></p><p style="text-align: center\;">Assistant Profes
 sor\, Ophthalmology\, Dept. of Ophthalmology</p><p style="text-align: cente
 r\;">Baylor College of Medicine\,</p><p style="text-align: center\;">Housto
 n\, TX</p><p> </p><p style="text-align: center\;"><strong>*Please contact <
 a href="mailto:hughestraciem@wustl.edu">hughestraciem@wustl.edu</a> for Zoo
 m details</strong></p>
CATEGORIES:All,Vision Science Seminar
LOCATION:Maternity Building 7th floor Conference room 725
GEO:38.636054;-90.263014
ORGANIZER;CN="Katy":MAILTO:kpaglusch@wustl.edu
URL;VALUE=URI:https://ophthalmology.wustl.edu/calendar/event/vision-science
 -seminar-12-8/
END:VEVENT
BEGIN:VTIMEZONE
TZID:America/Chicago
BEGIN:STANDARD
TZOFFSETFROM:-0500
TZOFFSETTO:-0600
DTSTART:20221106T070000
TZNAME:CST
END:STANDARD
END:VTIMEZONE
END:VCALENDAR
