BEGIN:VCALENDAR
VERSION:2.0
PRODID:-//Ophthalmology &amp; Visual Sciences//NONSGML Events//EN
CALSCALE:GREGORIAN
X-ORIGINAL-URL:https://ophthalmology.wustl.edu/calendar/
X-WR-CALDESC:Ophthalmology &amp; Visual Sciences - Events
BEGIN:VEVENT
UID:20210929T1201Z-1632916918.1218-EO-6741-1@172.23.128.19
STATUS:CONFIRMED
DTSTAMP:20260419T055042Z
CREATED:20200421T165326Z
LAST-MODIFIED:20200421T165326Z
DTSTART;TZID=America/Chicago:20191212T120000
DTEND;TZID=America/Chicago:20191212T130000
SUMMARY: Vision Science Seminar
DESCRIPTION: Vision Science Seminar Presented By Daniel Kerschensteiner MD 
 Associate Professor Ophthalmology & Visual Sciences Washington University S
 chool of Medicine “Predation and Perception”
X-ALT-DESC;FMTTYPE=text/html: <h3 style="text-align: center\;"><strong>Visi
 on Science Seminar</strong></h3><p style="text-align: center\;"><strong>Pre
 sented By</strong></p><p style="text-align: center\;"><strong><a href="http
 s://ophthalmology.wustl.edu/people/daniel-kerschensteiner-md/">Daniel Kersc
 hensteiner MD</a></strong></p><p style="text-align: center\;"><strong>Assoc
 iate Professor</strong></p><p style="text-align: center\;"><strong>Ophthalm
 ology & Visual Sciences</strong></p><p style="text-align: center\;"><strong
 >Washington University School of Medicine</strong></p><p style="text-align:
  center\;"><strong>"Predation and Perception"</strong></p>
CATEGORIES:All,Vision Science Seminar
LOCATION:Maternity Building 7th floor Conference room 725
GEO:38.636054;-90.263014
ORGANIZER;CN="Zach":MAILTO:zflauaus@wustl.edu
URL;VALUE=URI:https://ophthalmology.wustl.edu/calendar/event/vision-science
 -seminar-13/
END:VEVENT
BEGIN:VTIMEZONE
TZID:America/Chicago
BEGIN:STANDARD
TZOFFSETFROM:-0500
TZOFFSETTO:-0600
DTSTART:20191103T070000
TZNAME:CST
END:STANDARD
END:VTIMEZONE
END:VCALENDAR
