BEGIN:VCALENDAR
VERSION:2.0
PRODID:-//Ophthalmology &amp; Visual Sciences//NONSGML Events//EN
CALSCALE:GREGORIAN
X-ORIGINAL-URL:https://ophthalmology.wustl.edu/calendar/
X-WR-CALDESC:Ophthalmology &amp; Visual Sciences - Events
BEGIN:VEVENT
UID:20211010T0355Z-1633838107.7172-EO-6743-1@172.23.128.19
STATUS:CONFIRMED
DTSTAMP:20260424T085349Z
CREATED:20200421T165326Z
LAST-MODIFIED:20200421T165326Z
DTSTART;TZID=America/Chicago:20191017T120000
DTEND;TZID=America/Chicago:20191017T130000
SUMMARY: Vision Science Seminar
DESCRIPTION: Vision Science Seminar Topic: “Of Neurons and Pericytes: Neuro
 vascular Approach to Retinal Repair” Presented By Botir Sagdullaev PhD Asso
 ciate Professor Burke Neurological Institute Cornell University School ofÂ 
 Medicine
X-ALT-DESC;FMTTYPE=text/html: <h3 style="text-align: center\;">Vision Scien
 ce Seminar</h3><p style="text-align: center\;">Topic: "Of Neurons and Peric
 ytes: Neurovascular Approach to Retinal Repair"</p><p style="text-align: ce
 nter\;"><strong>Presented By</strong></p><p style="text-align: center\;"><a
  href="https://burke.weill.cornell.edu/sagdullaev-lab"><strong>Botir Sagdul
 laev PhD</strong></a></p><p style="text-align: center\;"><strong>Associate 
 Professor</strong></p><p style="text-align: center\;"><strong>Burke Neurolo
 gical Institute</strong></p><p style="text-align: center\;"><strong>Cornell
  University School ofÂ </strong><b>Medicine</b></p>
CATEGORIES:All,Vision Science Seminar
LOCATION:Maternity Building 7th floor Conference room 725
GEO:38.636054;-90.263014
ORGANIZER;CN="Zach":MAILTO:zflauaus@wustl.edu
URL;VALUE=URI:https://ophthalmology.wustl.edu/calendar/event/vision-science
 -seminar-15/
END:VEVENT
BEGIN:VTIMEZONE
TZID:America/Chicago
BEGIN:DAYLIGHT
TZOFFSETFROM:-0600
TZOFFSETTO:-0500
DTSTART:20190310T080000
TZNAME:CDT
END:DAYLIGHT
END:VTIMEZONE
END:VCALENDAR
