BEGIN:VCALENDAR
VERSION:2.0
PRODID:-//Ophthalmology &amp; Visual Sciences//NONSGML Events//EN
CALSCALE:GREGORIAN
X-ORIGINAL-URL:https://ophthalmology.wustl.edu/calendar/
X-WR-CALDESC:Ophthalmology &amp; Visual Sciences - Events
BEGIN:VEVENT
UID:20211010T0357Z-1633838259.4405-EO-6744-1@172.23.128.19
STATUS:CONFIRMED
DTSTAMP:20260423T160815Z
CREATED:20200421T165326Z
LAST-MODIFIED:20200421T165326Z
DTSTART;TZID=America/Chicago:20191003T120000
DTEND;TZID=America/Chicago:20191003T130000
SUMMARY: Vision Science Seminar
DESCRIPTION: Vision Science Seminar “Pilot Trial Results of 5% Betadine for
  Adenoviral Conjunctivitis” Presented By Mae Gordon PhD Professor Ophthalmo
 logy & Visual Sciences Washington University School of Medicine
X-ALT-DESC;FMTTYPE=text/html: <h3 style="text-align: center\;">Vision Scien
 ce Seminar</h3><p style="text-align: center\;"><strong>"Pilot Trial Results
  of 5% Betadine for Adenoviral Conjunctivitis"</strong></p><p style="text-a
 lign: center\;"><strong>Presented By</strong></p><p style="text-align: cent
 er\;"><a href="https://ophthalmology.wustl.edu/people/mae-gordon-phd/"><str
 ong>Mae Gordon PhD</strong></a></p><p style="text-align: center\;"><strong>
 Professor</strong></p><p style="text-align: center\;"><strong>Ophthalmology
  & Visual Sciences</strong></p><p style="text-align: center\;"><strong>Wash
 ington University School of Medicine</strong></p>
CATEGORIES:All,Vision Science Seminar
LOCATION:Maternity Building 7th floor Conference room 725
GEO:38.636054;-90.263014
ORGANIZER;CN="Zach":MAILTO:zflauaus@wustl.edu
URL;VALUE=URI:https://ophthalmology.wustl.edu/calendar/event/vision-science
 -seminar-16/
END:VEVENT
BEGIN:VTIMEZONE
TZID:America/Chicago
BEGIN:DAYLIGHT
TZOFFSETFROM:-0600
TZOFFSETTO:-0500
DTSTART:20190310T080000
TZNAME:CDT
END:DAYLIGHT
END:VTIMEZONE
END:VCALENDAR
