BEGIN:VCALENDAR
VERSION:2.0
PRODID:-//Ophthalmology &amp; Visual Sciences//NONSGML Events//EN
CALSCALE:GREGORIAN
X-ORIGINAL-URL:https://ophthalmology.wustl.edu/calendar/
X-WR-CALDESC:Ophthalmology &amp; Visual Sciences - Events
BEGIN:VEVENT
UID:20211010T0418Z-1633839504.5018-EO-6811-1@172.23.128.19
STATUS:CONFIRMED
DTSTAMP:20260423T175953Z
CREATED:20200421T165328Z
LAST-MODIFIED:20200421T165328Z
DTSTART;TZID=America/Chicago:20190110T160000
DTEND;TZID=America/Chicago:20190110T170000
SUMMARY: Vision Science Seminar
DESCRIPTION: Vision Science Seminar âMolecular Determinants of Circuit Fo
 rmation in the Mouse Retinaâ Presented by Florentina Soto\, PhD Assistant
  Professor Department of Ophthalmology and Visual Sciences Washington Unive
 rsity St. Louis
X-ALT-DESC;FMTTYPE=text/html: <h3 style="text-align: center\;">Vision Scien
 ce Seminar</h3><h4 style="text-align: center\;">âMolecular Determinants o
 f Circuit Formation in the Mouse Retinaâ</h4><p style="text-align: center
 \;">Presented by</p><p style="text-align: center\;"><a href="https://ophtha
 lmology.wustl.edu/people/florentina-soto-phd/">Florentina Soto\, PhD</a><br
  />Assistant Professor<br />Department of Ophthalmology and Visual Sciences
 <br />Washington University St. Louis</p>
CATEGORIES:All,Vision Science Seminar
LOCATION:Maternity Building 7th floor Conference room 725
GEO:38.636054;-90.263014
ORGANIZER;CN="Zach":MAILTO:zflauaus@wustl.edu
URL;VALUE=URI:https://ophthalmology.wustl.edu/calendar/event/vision-science
 -seminar-19/
END:VEVENT
BEGIN:VTIMEZONE
TZID:America/Chicago
BEGIN:STANDARD
TZOFFSETFROM:-0500
TZOFFSETTO:-0600
DTSTART:20181104T070000
TZNAME:CST
END:STANDARD
END:VTIMEZONE
END:VCALENDAR
