BEGIN:VCALENDAR
VERSION:2.0
PRODID:-//Ophthalmology &amp; Visual Sciences//NONSGML Events//EN
CALSCALE:GREGORIAN
X-ORIGINAL-URL:https://ophthalmology.wustl.edu/calendar/
X-WR-CALDESC:Ophthalmology &amp; Visual Sciences - Events
BEGIN:VEVENT
UID:20220823T1757Z-1661277421.8368-EO-18907-1@172.23.128.19
STATUS:CONFIRMED
DTSTAMP:20260424T142811Z
CREATED:20220822T050626Z
LAST-MODIFIED:20230209T210937Z
DTSTART;TZID=America/Chicago:20230216T100000
DTEND;TZID=America/Chicago:20230216T110000
SUMMARY: Vision Science Seminar-2/16
DESCRIPTION: Vision Science Seminar “Controlling Inflammation Through Healt
 hy (self)-eating” Presented by Thomas Ferguson\, PhD Professor\, Ophthalmol
 ogy and Visual Sciences Department of Ophthalmology and Visual Sciences Was
 hington University School of Medicine *Please contact hughestraciem@wustl.e
 du for Zoom details
X-ALT-DESC;FMTTYPE=text/html: <p style="text-align: center\;"><strong>Visio
 n Science Seminar</strong></p><p style="text-align: center\;"><em><strong>"
 Controlling Inflammation Through Healthy (self)-eating"</strong></em></p><p
  style="text-align: center\;">Presented by</p><p style="text-align: center\
 ;"><strong><a href="https://ophthalmology.wustl.edu/people/thomas-ferguson-
 phd/">Thomas Ferguson\, PhD</a></strong></p><p style="text-align: center\;"
 >Professor\, Ophthalmology and Visual Sciences</p><p style="text-align: cen
 ter\;">Department of Ophthalmology and Visual Sciences</p><p style="text-al
 ign: center\;">Washington University School of Medicine</p><p style="text-a
 lign: center\;"><strong>*Please contact </strong><a href="mailto:hughestrac
 iem@wustl.edu"><strong>hughestraciem@wustl.edu</strong></a><strong> for Zoo
 m details</strong></p>
CATEGORIES:All,Vision Science Seminar
ORGANIZER;CN="Katy":MAILTO:kpaglusch@wustl.edu
URL;VALUE=URI:https://ophthalmology.wustl.edu/calendar/event/vision-science
 -seminar-2-16/
END:VEVENT
BEGIN:VTIMEZONE
TZID:America/Chicago
BEGIN:STANDARD
TZOFFSETFROM:-0500
TZOFFSETTO:-0600
DTSTART:20221106T070000
TZNAME:CST
END:STANDARD
END:VTIMEZONE
END:VCALENDAR
