BEGIN:VCALENDAR
VERSION:2.0
PRODID:-//Ophthalmology &amp; Visual Sciences//NONSGML Events//EN
CALSCALE:GREGORIAN
X-ORIGINAL-URL:https://ophthalmology.wustl.edu/calendar/
X-WR-CALDESC:Ophthalmology &amp; Visual Sciences - Events
BEGIN:VEVENT
UID:20220829T2001Z-1661803280.801-EO-18973-1@172.23.128.18
STATUS:CONFIRMED
DTSTAMP:20260424T164919Z
CREATED:20220827T202305Z
LAST-MODIFIED:20220827T202305Z
DTSTART;TZID=America/Chicago:20230223T100000
DTEND;TZID=America/Chicago:20230223T110000
SUMMARY: Vision Science Seminar-2/23
DESCRIPTION: Title: TBA” Presented by Florentina Soto\, PhD Associate Profe
 ssor\, Ophthalmology and Visual Sciences Department of Ophthalmology and Vi
 sual Sciences Washington University School of Medicine *Please contact hugh
 estraciem@wustl.edu for Zoom details
X-ALT-DESC;FMTTYPE=text/html: <p style="text-align: center\;">Title: TBA”</
 p><p style="text-align: center\;">Presented by</p><p style="text-align: cen
 ter\;"><a href="https://ophthalmology.wustl.edu/people/florentina-soto-phd/
 ">Florentina Soto\, PhD</a></p><p class="washu-ppi-description" style="text
 -align: center\;">Associate Professor\, Ophthalmology and Visual Sciences</
 p><p style="text-align: center\;">Department of Ophthalmology and Visual Sc
 iences</p><p style="text-align: center\;">Washington University School of M
 edicine</p><p style="text-align: center\;"><strong>*Please contact </strong
 ><a href="mailto:hughestraciem@wustl.edu"><strong>hughestraciem@wustl.edu</
 strong></a><strong> for Zoom details</strong></p>
CATEGORIES:All,Vision Science Seminar
ORGANIZER;CN="Katy":MAILTO:kpaglusch@wustl.edu
URL;VALUE=URI:https://ophthalmology.wustl.edu/calendar/event/vision-science
 -seminar-2-23/
END:VEVENT
BEGIN:VTIMEZONE
TZID:America/Chicago
BEGIN:STANDARD
TZOFFSETFROM:-0500
TZOFFSETTO:-0600
DTSTART:20221106T070000
TZNAME:CST
END:STANDARD
END:VTIMEZONE
END:VCALENDAR
