BEGIN:VCALENDAR
VERSION:2.0
PRODID:-//Ophthalmology &amp; Visual Sciences//NONSGML Events//EN
CALSCALE:GREGORIAN
X-ORIGINAL-URL:https://ophthalmology.wustl.edu/calendar/
X-WR-CALDESC:Ophthalmology &amp; Visual Sciences - Events
BEGIN:VEVENT
UID:20211117T1500Z-1637161254.8918-EO-14875-1@172.23.128.19
STATUS:CONFIRMED
DTSTAMP:20260424T185234Z
CREATED:20211103T195838Z
LAST-MODIFIED:20220217T162618Z
DTSTART;TZID=America/Chicago:20220224T100000
DTEND;TZID=America/Chicago:20220224T110000
SUMMARY: Vision Science Seminar-2/24
DESCRIPTION: Vision Science Seminar “The Ocular Hypertension Treatment Stud
 y: 20 Year Perspective” Presented by Mae Gordon\, PhD Professor\, Ophthalmo
 logy and Visual Sciences Washington University School of Medicine/
X-ALT-DESC;FMTTYPE=text/html: <p style="text-align: center\;"><strong>Visio
 n Science Seminar</strong></p><p style="text-align: center\;"><em><strong>"
 The Ocular Hypertension Treatment Study: 20 Year Perspective"</strong></em>
 </p><p style="text-align: center\;">Presented by</p><p style="text-align: c
 enter\;"><strong><a href="https://ophthalmology.wustl.edu/people/mae-gordon
 -phd/">Mae Gordon\, PhD</a><br /></strong></p><p style="text-align: center\
 ;">Professor\, Ophthalmology and Visual Sciences</p><p style="text-align: c
 enter\;">Washington University School of Medicine/</p><p style="text-align:
  center\;">
CATEGORIES:All,Vision Science Seminar
LOCATION:Maternity Building 7th floor Conference room 725
GEO:38.636054;-90.263014
ORGANIZER;CN="Katy":MAILTO:kpaglusch@wustl.edu
URL;VALUE=URI:https://ophthalmology.wustl.edu/calendar/event/vision-science
 -seminar-2-24/
END:VEVENT
BEGIN:VTIMEZONE
TZID:America/Chicago
BEGIN:STANDARD
TZOFFSETFROM:-0500
TZOFFSETTO:-0600
DTSTART:20211107T070000
TZNAME:CST
END:STANDARD
END:VTIMEZONE
END:VCALENDAR
