BEGIN:VCALENDAR
VERSION:2.0
PRODID:-//Ophthalmology &amp; Visual Sciences//NONSGML Events//EN
CALSCALE:GREGORIAN
X-ORIGINAL-URL:https://ophthalmology.wustl.edu/calendar/
X-WR-CALDESC:Ophthalmology &amp; Visual Sciences - Events
BEGIN:VEVENT
UID:20211117T1458Z-1637161133.0435-EO-14791-1@172.23.128.19
STATUS:CONFIRMED
DTSTAMP:20260423T100304Z
CREATED:20211029T211354Z
LAST-MODIFIED:20220127T203210Z
DTSTART;TZID=America/Chicago:20220203T100000
DTEND;TZID=America/Chicago:20220203T110000
SUMMARY: Vision Science Seminar-2/3
DESCRIPTION: Vision Science Seminar “On a Pathway to Precision Genomics for
  Precision Medicine” Presented by Tychele Turner\, PhD Assistant Professor 
 of Genetics\, Division of Biology and Biomedical Sciences\, Institute of Cl
 inical and Translational Sciences Washington University School of Medicine
X-ALT-DESC;FMTTYPE=text/html: <p style="text-align: center\;"><strong>Visio
 n Science Seminar</strong></p><p style="text-align: center\;">"<em><strong>
 On a Pathway to Precision Genomics for Precision Medicine"</strong></em></p
 ><p style="text-align: center\;">Presented by</p><p style="text-align: cent
 er\;"><a href="http://genetics.wustl.edu/staff-members/tychele-turner/"><st
 rong>Tychele Turner\, PhD</strong></a></p><p style="text-align: center\;">A
 ssistant Professor of Genetics\, Division of Biology and Biomedical Science
 s\, Institute of Clinical and Translational Sciences</p><p style="text-alig
 n: center\;">Washington University School of Medicine</p>
CATEGORIES:All,Vision Science Seminar
LOCATION:Zoom Virtual Platform
GEO:38.626845;-90.256594
ORGANIZER;CN="Katy":MAILTO:kpaglusch@wustl.edu
URL;VALUE=URI:https://ophthalmology.wustl.edu/calendar/event/vision-science
 -seminar-2-3/
END:VEVENT
BEGIN:VTIMEZONE
TZID:America/Chicago
BEGIN:STANDARD
TZOFFSETFROM:-0500
TZOFFSETTO:-0600
DTSTART:20211107T070000
TZNAME:CST
END:STANDARD
END:VTIMEZONE
END:VCALENDAR
