BEGIN:VCALENDAR
VERSION:2.0
PRODID:-//Ophthalmology &amp; Visual Sciences//NONSGML Events//EN
CALSCALE:GREGORIAN
X-ORIGINAL-URL:https://ophthalmology.wustl.edu/calendar/
X-WR-CALDESC:Ophthalmology &amp; Visual Sciences - Events
BEGIN:VEVENT
UID:20220905T0847Z-1662367670.6828-EO-18904-1@172.23.128.19
STATUS:CONFIRMED
DTSTAMP:20260419T055023Z
CREATED:20220822T050246Z
LAST-MODIFIED:20230126T224700Z
DTSTART;TZID=America/Chicago:20230209T100000
DTEND;TZID=America/Chicago:20230209T110000
SUMMARY: Vision Science Seminar-2/9
DESCRIPTION: Vision Science Seminar “CRX-linked Retinopathies-Pathogenesis 
 and Treatment Strategies” Presented by Shiming Chen\, PhD Dr. Bernard and J
 anet R. Becker Distinguished Professor in Ophthalmology Department of Ophth
 almology and Visual Sciences Washington University School of Medicine *Plea
 se contact hughestraciem@wustl.edu for Zoom details
X-ALT-DESC;FMTTYPE=text/html: <p style="text-align: center\;"><strong>Visio
 n Science Seminar</strong></p><p style="text-align: center\;"><em><strong>"
 CRX-linked Retinopathies-Pathogenesis and Treatment Strategies"</strong></e
 m></p><p style="text-align: center\;">Presented by</p><p style="text-align:
  center\;"><a href="https://ophthalmology.wustl.edu/people/shiming-chen-phd
 /">Shiming Chen\, PhD</a></p><p style="text-align: center\;">Dr. Bernard an
 d Janet R. Becker Distinguished Professor in Ophthalmology</p><p style="tex
 t-align: center\;">Department of Ophthalmology and Visual Sciences</p><p st
 yle="text-align: center\;">Washington University School of Medicine</p><p s
 tyle="text-align: center\;"><strong>*Please contact </strong><a href="mailt
 o:hughestraciem@wustl.edu"><strong>hughestraciem@wustl.edu</strong></a><str
 ong> for Zoom details</strong></p>
CATEGORIES:All,Vision Science Seminar
LOCATION:Bernard Becker Medical Library\, Becker Classroom 405
GEO:38.634579;-90.263109
ORGANIZER;CN="Katy":MAILTO:kpaglusch@wustl.edu
URL;VALUE=URI:https://ophthalmology.wustl.edu/calendar/event/vision-science
 -seminar-2-9/
END:VEVENT
BEGIN:VTIMEZONE
TZID:America/Chicago
BEGIN:STANDARD
TZOFFSETFROM:-0500
TZOFFSETTO:-0600
DTSTART:20221106T070000
TZNAME:CST
END:STANDARD
END:VTIMEZONE
END:VCALENDAR
