BEGIN:VCALENDAR
VERSION:2.0
PRODID:-//Ophthalmology &amp; Visual Sciences//NONSGML Events//EN
CALSCALE:GREGORIAN
X-ORIGINAL-URL:https://ophthalmology.wustl.edu/calendar/
X-WR-CALDESC:Ophthalmology &amp; Visual Sciences - Events
BEGIN:VEVENT
UID:20211010T0414Z-1633839285.3308-EO-6823-1@172.23.128.19
STATUS:CONFIRMED
DTSTAMP:20260423T205219Z
CREATED:20200421T165328Z
LAST-MODIFIED:20200421T165328Z
DTSTART;TZID=America/Chicago:20190214T160000
DTEND;TZID=America/Chicago:20190214T170000
SUMMARY: Vision Science Seminar
DESCRIPTION: Vision Science Seminar Presented by Alan Shiels\, PhD Professo
 r Department of Ophthalmology and Visual Sciences Washington University St.
  Louis
X-ALT-DESC;FMTTYPE=text/html: <h3 style="text-align: center\;">Vision Scien
 ce Seminar</h3><p style="text-align: center\;">Presented by</p><p style="te
 xt-align: center\;"><a href="https://ophthalmology.wustl.edu/people/alan-sh
 iels-phd/">Alan Shiels\, PhD</a><br />Professor<br />Department of Ophthalm
 ology and Visual Sciences<br />Washington University St. Louis</p>
CATEGORIES:All,Vision Science Seminar
LOCATION:Maternity Building 7th floor Conference room 725
GEO:38.636054;-90.263014
ORGANIZER;CN="Zach":MAILTO:zflauaus@wustl.edu
URL;VALUE=URI:https://ophthalmology.wustl.edu/calendar/event/vision-science
 -seminar-27/
END:VEVENT
BEGIN:VTIMEZONE
TZID:America/Chicago
BEGIN:STANDARD
TZOFFSETFROM:-0500
TZOFFSETTO:-0600
DTSTART:20181104T070000
TZNAME:CST
END:STANDARD
END:VTIMEZONE
END:VCALENDAR
