BEGIN:VCALENDAR
VERSION:2.0
PRODID:-//Ophthalmology &amp; Visual Sciences//NONSGML Events//EN
CALSCALE:GREGORIAN
X-ORIGINAL-URL:https://ophthalmology.wustl.edu/calendar/
X-WR-CALDESC:Ophthalmology &amp; Visual Sciences - Events
BEGIN:VEVENT
UID:20220909T0223Z-1662690197.8083-EO-19024-1@172.23.128.19
STATUS:CONFIRMED
DTSTAMP:20260425T222639Z
CREATED:20220907T165657Z
LAST-MODIFIED:20230310T225151Z
DTSTART;TZID=America/Chicago:20230316T100000
DTEND;TZID=America/Chicago:20230316T110000
SUMMARY: Vision Science Seminar-3/16
DESCRIPTION: “Building a Functional Retina From hiPSC for Modeling and Rege
 nerative Applications” Presented by Valeria Canto-Soler\, PhD Doni Solich F
 amily Chair in Ocular Stem Cell Research\, Director\, CellSight-Ocular Stem
  Cell and Regeneration Research Program\, Associate Professor of Ophthalmol
 ogy  University of Colorado School of Medicine *Please contact hughestracie
 m@wustl.edu for Zoom details  
X-ALT-DESC;FMTTYPE=text/html: <p><b><i>"Building a Functional Retina From <
 /i></b><b><i>hiPSC</i></b><b><i> for Modeling and Regenerative Applications
 ”</i></b></p><p style="text-align: center\;">Presented by</p><p style="text
 -align: center\;"><a href="https://som.ucdenver.edu/Profiles/Faculty/Profil
 e/25243">Valeria Canto-Soler\, PhD</a></p><p style="text-align: center\;">D
 oni Solich Family Chair in Ocular Stem Cell Research\,</p><p style="text-al
 ign: center\;">Director\, CellSight-Ocular Stem Cell and Regeneration Resea
 rch Program\,</p><p style="text-align: center\;">Associate Professor of Oph
 thalmology</p><p style="text-align: center\;"> University of Colorado Schoo
 l of Medicine</p><p style="text-align: center\;"><strong>*Please contact <a
  href="mailto:hughestraciem@wustl.edu">hughestraciem@wustl.edu</a> for Zoom
  details</strong></p><p> </p>
CATEGORIES:All,Vision Science Seminar
LOCATION:North Medical Building-Moore Auditorium
GEO:38.635193;-90.262646
ORGANIZER;CN="Katy":MAILTO:kpaglusch@wustl.edu
URL;VALUE=URI:https://ophthalmology.wustl.edu/calendar/event/vision-science
 -seminar-3-16/
END:VEVENT
BEGIN:VTIMEZONE
TZID:America/Chicago
BEGIN:DAYLIGHT
TZOFFSETFROM:-0600
TZOFFSETTO:-0500
DTSTART:20230312T080000
TZNAME:CDT
END:DAYLIGHT
END:VTIMEZONE
END:VCALENDAR
