BEGIN:VCALENDAR
VERSION:2.0
PRODID:-//Ophthalmology &amp; Visual Sciences//NONSGML Events//EN
CALSCALE:GREGORIAN
X-ORIGINAL-URL:https://ophthalmology.wustl.edu/calendar/
X-WR-CALDESC:Ophthalmology &amp; Visual Sciences - Events
BEGIN:VEVENT
UID:20220828T0956Z-1661680616.2463-EO-18976-1@172.23.128.18
STATUS:CONFIRMED
DTSTAMP:20260424T024057Z
CREATED:20220827T203046Z
LAST-MODIFIED:20230223T185124Z
DTSTART;TZID=America/Chicago:20230302T103000
DTEND;TZID=America/Chicago:20230302T113000
SUMMARY: Vision Science Seminar-3/2
DESCRIPTION: “The Effect of Autoimmune Disease Risk Alleles on Molecular T 
 Cell Traits” Presented by Soumya Raychaudhuri\, MD\, PhD Professor of Medic
 ine\, Brigham and Women’s Hospital\; Professor of Biomedical Informatics Ha
 rvard Medical School *Please contact hughestraciem@wustl.edu for Zoom detai
 ls
X-ALT-DESC;FMTTYPE=text/html: <p style="text-align: center\;"><em><strong>"
 The Effect of Autoimmune Disease Risk Alleles on Molecular T Cell Traits"</
 strong></em></p><p style="text-align: center\;">Presented by</p><p style="t
 ext-align: center\;"><strong><a href="https://dbmi.hms.harvard.edu/people/s
 oumya-raychaudhuri">Soumya Raychaudhuri\, MD\, PhD</a></strong></p><p class
 ="washu-ppi-description" style="text-align: center\;">Professor of Medicine
 \, Brigham and Women's Hospital\; <span style="font-size: 1.125rem\;">Profe
 ssor of Biomedical Informatics</span></p><p style="text-align: center\;">Ha
 rvard Medical School</p><p style="text-align: center\;"><strong>*Please con
 tact </strong><a href="mailto:hughestraciem@wustl.edu"><strong>hughestracie
 m@wustl.edu</strong></a><strong> for Zoom details</strong></p>
CATEGORIES:All,Vision Science Seminar
LOCATION:North Medical Building-Moore Auditorium
GEO:38.635193;-90.262646
ORGANIZER;CN="Katy":MAILTO:kpaglusch@wustl.edu
URL;VALUE=URI:https://ophthalmology.wustl.edu/calendar/event/vision-science
 -seminar-3-2-2/
END:VEVENT
BEGIN:VTIMEZONE
TZID:America/Chicago
BEGIN:STANDARD
TZOFFSETFROM:-0500
TZOFFSETTO:-0600
DTSTART:20221106T070000
TZNAME:CST
END:STANDARD
END:VTIMEZONE
END:VCALENDAR
