BEGIN:VCALENDAR
VERSION:2.0
PRODID:-//Ophthalmology &amp; Visual Sciences//NONSGML Events//EN
CALSCALE:GREGORIAN
X-ORIGINAL-URL:https://ophthalmology.wustl.edu/calendar/
X-WR-CALDESC:Ophthalmology &amp; Visual Sciences - Events
BEGIN:VEVENT
UID:20220828T1001Z-1661680867.2863-EO-18979-1@172.23.128.18
STATUS:CONFIRMED
DTSTAMP:20260425T222546Z
CREATED:20220827T203644Z
LAST-MODIFIED:20230317T193227Z
DTSTART;TZID=America/Chicago:20230323T100000
DTEND;TZID=America/Chicago:20230323T110000
SUMMARY: Vision Science Seminar-3/23
DESCRIPTION: “Techniques to Dissect Temporal Gene Regulatory Networks in th
 e Developing Retina” Presented by Brian Clark\, PhD Assistant  Professor\, 
 Ophthalmology and Visual Sciences Department of Ophthalmology and Visual Sc
 iences Washington University School of Medicine *Please contact hughestraci
 em@wustl.edu for Zoom details
X-ALT-DESC;FMTTYPE=text/html: <p style="text-align: center\;"><em><strong>"
 Techniques to Dissect Temporal Gene Regulatory Networks in the Developing R
 etina"</strong></em></p><p style="text-align: center\;">Presented by</p><p 
 style="text-align: center\;"><strong><a href="https://ophthalmology.wustl.e
 du/people/brian-clark-phd/">Brian Clark\, PhD</a></strong></p><p class="was
 hu-ppi-description" style="text-align: center\;">Assistant  Professor\, Oph
 thalmology and Visual Sciences</p><p style="text-align: center\;">Departmen
 t of Ophthalmology and Visual Sciences</p><p style="text-align: center\;">W
 ashington University School of Medicine</p><p style="text-align: center\;">
 <strong>*Please contact </strong><a href="mailto:hughestraciem@wustl.edu"><
 strong>hughestraciem@wustl.edu</strong></a><strong> for Zoom details</stron
 g></p>
CATEGORIES:All,Vision Science Seminar
LOCATION:Bernard Becker Medical Library\, Becker Classroom 405
GEO:38.634579;-90.263109
ORGANIZER;CN="Katy":MAILTO:kpaglusch@wustl.edu
URL;VALUE=URI:https://ophthalmology.wustl.edu/calendar/event/vision-science
 -seminar-3-23/
END:VEVENT
BEGIN:VTIMEZONE
TZID:America/Chicago
BEGIN:DAYLIGHT
TZOFFSETFROM:-0600
TZOFFSETTO:-0500
DTSTART:20230312T080000
TZNAME:CDT
END:DAYLIGHT
END:VTIMEZONE
END:VCALENDAR
