BEGIN:VCALENDAR
VERSION:2.0
PRODID:-//Ophthalmology &amp; Visual Sciences//NONSGML Events//EN
CALSCALE:GREGORIAN
X-ORIGINAL-URL:https://ophthalmology.wustl.edu/calendar/
X-WR-CALDESC:Ophthalmology &amp; Visual Sciences - Events
BEGIN:VEVENT
UID:20220909T0525Z-1662701136.1418-EO-19027-1@172.23.128.19
STATUS:CONFIRMED
DTSTAMP:20260425T190225Z
CREATED:20220907T172851Z
LAST-MODIFIED:20230324T170710Z
DTSTART;TZID=America/Chicago:20230330T100000
DTEND;TZID=America/Chicago:20230330T110000
SUMMARY: Vision Science Seminar-3/30
DESCRIPTION: Vision Science Seminar “Retinal Cell Fate Determination Throug
 h the Lens of Otx2 Regulation” Joseph  Brzezinski IV\, PhD Associate Profes
 sor of Ophthalmology\, Department of Ophthalmology Director\, CellSight Lab
 oratory of Development Genetics University of Colorado-Anschutz Medical Cam
 pus  
X-ALT-DESC;FMTTYPE=text/html: <p style="text-align: center\;"><strong>Visio
 n Science Seminar</strong></p><p style="text-align: center\;"><strong>"Reti
 nal Cell Fate Determination Through the Lens of Otx2 Regulation"</strong></
 p><p style="text-align: center\;"><a href="https://medschool.cuanschutz.edu
 /ophthalmology/research/faculty/joseph-brzezinski"><strong>Joseph  Brzezins
 ki IV\, PhD</strong></a></p><p style="text-align: center\;">Associate Profe
 ssor of Ophthalmology\, Department of Ophthalmology</p><p style="text-align
 : center\;">Director\, CellSight Laboratory of Development Genetics</p><p s
 tyle="text-align: center\;">University of Colorado-Anschutz Medical Campus<
 /p><p> </p><h3></h3>
CATEGORIES:All,Vision Science Seminar
LOCATION:Bernard Becker Medical Library\, Becker Classroom 405
GEO:38.634579;-90.263109
ORGANIZER;CN="Katy":MAILTO:kpaglusch@wustl.edu
URL;VALUE=URI:https://ophthalmology.wustl.edu/calendar/event/vision-science
 -seminar-3-30/
END:VEVENT
BEGIN:VTIMEZONE
TZID:America/Chicago
BEGIN:DAYLIGHT
TZOFFSETFROM:-0600
TZOFFSETTO:-0500
DTSTART:20230312T080000
TZNAME:CDT
END:DAYLIGHT
END:VTIMEZONE
END:VCALENDAR
