BEGIN:VCALENDAR
VERSION:2.0
PRODID:-//Ophthalmology &amp; Visual Sciences//NONSGML Events//EN
CALSCALE:GREGORIAN
X-ORIGINAL-URL:https://ophthalmology.wustl.edu/calendar/
X-WR-CALDESC:Ophthalmology &amp; Visual Sciences - Events
BEGIN:VEVENT
UID:20211010T0343Z-1633837389.5014-EO-6731-1@172.23.128.19
STATUS:CONFIRMED
DTSTAMP:20260419T055041Z
CREATED:20200421T165326Z
LAST-MODIFIED:20200421T165326Z
DTSTART;TZID=America/Chicago:20200123T120000
DTEND;TZID=America/Chicago:20200123T130000
SUMMARY: Vision Science Seminar
DESCRIPTION: Vision Science Seminar Presented By David M Berson PhD Profess
 or and Chair\, Department of Neuroscience\; S.A. Fox and D.D. Fox Professor
  of Ophthalmology and Visual ScienceÂ  Brown University “Retinal Circuits f
 or Visual Reflexes”
X-ALT-DESC;FMTTYPE=text/html: <h3 style="text-align: center\;"><strong>Visi
 on Science Seminar</strong></h3><p style="text-align: center\;"><strong>Pre
 sented By</strong></p><p style="text-align: center\;"><strong><a href="http
 s://neuroscience.brown.edu/Berson/">David M Berson PhD</a></strong></p><p s
 tyle="text-align: center\;"><strong>Professor and Chair\, Department of Neu
 roscience\;</strong></p><p style="text-align: center\;"><strong>S.A. Fox an
 d D.D. Fox Professor of Ophthalmology and Visual ScienceÂ </strong></p><p s
 tyle="text-align: center\;"><strong>Brown University</strong></p><p style="
 text-align: center\;"><strong>"Retinal Circuits for Visual Reflexes"</stron
 g></p>
CATEGORIES:All,Vision Science Seminar
LOCATION:Maternity Building 7th floor Conference room 725
GEO:38.636054;-90.263014
ORGANIZER;CN="Zach":MAILTO:zflauaus@wustl.edu
URL;VALUE=URI:https://ophthalmology.wustl.edu/calendar/event/vision-science
 -seminar-3/
END:VEVENT
BEGIN:VTIMEZONE
TZID:America/Chicago
BEGIN:STANDARD
TZOFFSETFROM:-0500
TZOFFSETTO:-0600
DTSTART:20191103T070000
TZNAME:CST
END:STANDARD
END:VTIMEZONE
END:VCALENDAR
