BEGIN:VCALENDAR
VERSION:2.0
PRODID:-//Ophthalmology &amp; Visual Sciences//NONSGML Events//EN
CALSCALE:GREGORIAN
X-ORIGINAL-URL:https://ophthalmology.wustl.edu/calendar/
X-WR-CALDESC:Ophthalmology &amp; Visual Sciences - Events
BEGIN:VEVENT
UID:20211010T0419Z-1633839584.8519-EO-6830-1@172.23.128.19
STATUS:CONFIRMED
DTSTAMP:20260423T143858Z
CREATED:20200421T165328Z
LAST-MODIFIED:20200421T165328Z
DTSTART;TZID=America/Chicago:20181129T160000
DTEND;TZID=America/Chicago:20181129T170000
SUMMARY: Vision Science Seminar
DESCRIPTION: Vision Science Seminar “Mechanisms of glial bridging during sp
 inal cord regeneration” Presented by Mayssa Mokalled\, PhD Assistant Profes
 sor Department of Developmental Biology Washington University St. Louis
X-ALT-DESC;FMTTYPE=text/html: <h3 style="text-align: center\;">Vision Scien
 ce Seminar</h3><h5 style="text-align: center\;"><em>"Mechanisms of glial br
 idging during spinal cord regeneration"</em></h5><p style="text-align: cent
 er\;">Presented by</p><p style="text-align: center\;"><a href="http://devbi
 o.wustl.edu/faculty/faculty-members/mayssa-mokalled-ph.d">Mayssa Mokalled\,
  PhD</a><br />Assistant Professor<br />Department of Developmental Biology<
 br />Washington University St. Louis</p>
CATEGORIES:All,Vision Science Seminar
LOCATION:Maternity Building 7th floor Conference room 725
GEO:38.636054;-90.263014
ORGANIZER;CN="Zach":MAILTO:zflauaus@wustl.edu
URL;VALUE=URI:https://ophthalmology.wustl.edu/calendar/event/vision-science
 -seminar-34/
END:VEVENT
BEGIN:VTIMEZONE
TZID:America/Chicago
BEGIN:STANDARD
TZOFFSETFROM:-0500
TZOFFSETTO:-0600
DTSTART:20181104T070000
TZNAME:CST
END:STANDARD
END:VTIMEZONE
END:VCALENDAR
