BEGIN:VCALENDAR
VERSION:2.0
PRODID:-//Ophthalmology &amp; Visual Sciences//NONSGML Events//EN
CALSCALE:GREGORIAN
X-ORIGINAL-URL:https://ophthalmology.wustl.edu/calendar/
X-WR-CALDESC:Ophthalmology &amp; Visual Sciences - Events
BEGIN:VEVENT
UID:20220828T0957Z-1661680631.0275-EO-18985-1@172.23.128.18
STATUS:CONFIRMED
DTSTAMP:20260419T055023Z
CREATED:20220827T204549Z
LAST-MODIFIED:20230411T160907Z
DTSTART;TZID=America/Chicago:20230413T100000
DTEND;TZID=America/Chicago:20230413T110000
SUMMARY: Vision Science Seminar-4/13
DESCRIPTION: “Epigenetic Control of Retinal Development and Homeostasis” Pr
 esented by Philip Ruzycki\, PhD Assistant  Professor\, Ophthalmology and Vi
 sual Sciences John F. Hardesty\, MD Department of Ophthalmology and Visual 
 Sciences Washington University School of Medicine *Please contact hughestra
 ciem@wustl.edu for Zoom details
X-ALT-DESC;FMTTYPE=text/html: <p style="text-align: center\;"><em><strong>"
 Epigenetic Control of Retinal Development and Homeostasis"</strong></em></p
 ><p style="text-align: center\;">Presented by</p><p style="text-align: cent
 er\;"><a href="https://ophthalmology.wustl.edu/people/philip-ruzycki-phd/">
 Philip Ruzycki\, PhD</a></p><p class="washu-ppi-description" style="text-al
 ign: center\;">Assistant  Professor\, Ophthalmology and Visual Sciences</p>
 <p style="text-align: center\;">John F. Hardesty\, MD Department of Ophthal
 mology and Visual Sciences</p><p style="text-align: center\;">Washington Un
 iversity School of Medicine</p><p style="text-align: center\;"><strong>*Ple
 ase contact </strong><a href="mailto:hughestraciem@wustl.edu"><strong>hughe
 straciem@wustl.edu</strong></a><strong> for Zoom details</strong></p>
CATEGORIES:All,Vision Science Seminar
LOCATION:Bernard Becker Medical Library\, Becker Conference Room 201
GEO:41.875562;-87.624421
ORGANIZER;CN="Katy":MAILTO:kpaglusch@wustl.edu
URL;VALUE=URI:https://ophthalmology.wustl.edu/calendar/event/vision-science
 -seminar-4-13/
END:VEVENT
BEGIN:VTIMEZONE
TZID:America/Chicago
BEGIN:DAYLIGHT
TZOFFSETFROM:-0600
TZOFFSETTO:-0500
DTSTART:20230312T080000
TZNAME:CDT
END:DAYLIGHT
END:VTIMEZONE
END:VCALENDAR
