BEGIN:VCALENDAR
VERSION:2.0
PRODID:-//Ophthalmology &amp; Visual Sciences//NONSGML Events//EN
CALSCALE:GREGORIAN
X-ORIGINAL-URL:https://ophthalmology.wustl.edu/calendar/
X-WR-CALDESC:Ophthalmology &amp; Visual Sciences - Events
BEGIN:VEVENT
UID:20211205T1414Z-1638713671.1564-EO-14896-1@172.23.128.18
STATUS:CONFIRMED
DTSTAMP:20260425T192325Z
CREATED:20211119T195702Z
LAST-MODIFIED:20220329T194328Z
DTSTART;TZID=America/Chicago:20220414T100000
DTEND;TZID=America/Chicago:20220414T110000
SUMMARY: Vision Science Seminar-4/14
DESCRIPTION: Vision Science Seminar “The Role of Matrix Proteolysis in Eye 
 Defects and Disease” Presented by Suneel Apte\, MBBS\, D Phil Staff\, Depar
 tment of Biomedical Engineering\, Cleveland Clinic Lerner Research Institut
 e Cleveland\, OH   *Please contact hughestraciem@wustl.edu for Zoom details
X-ALT-DESC;FMTTYPE=text/html: <p style="text-align: center\;"><strong>Visio
 n Science Seminar</strong></p><p style="text-align: center\;"><strong><em>"
 The Role of Matrix Proteolysis in Eye Defects and Disease"</em></strong></p
 ><p style="text-align: center\;">Presented by</p><p style="text-align: cent
 er\;"><a href="https://my.clevelandclinic.org/staff/1980-suneel-apte"><stro
 ng>Suneel Apte\, MBBS\, D Phil</strong></a></p><p style="text-align: center
 \;">Staff\, Department of Biomedical Engineering\,</p><p style="text-align:
  center\;">Cleveland Clinic Lerner Research Institute</p><p style="text-ali
 gn: center\;">Cleveland\, OH</p><p> </p><p style="text-align: center\;"><st
 rong>*Please contact <a href="mailto:hughestraciem@wustl.edu">hughestraciem
 @wustl.edu</a> for Zoom details</strong></p><p style="text-align: center\;"
 >
CATEGORIES:All,Vision Science Seminar
LOCATION:Maternity Building 7th floor Conference room 725
GEO:38.636054;-90.263014
ORGANIZER;CN="Katy":MAILTO:kpaglusch@wustl.edu
URL;VALUE=URI:https://ophthalmology.wustl.edu/calendar/event/vision-science
 -seminar-4-14/
END:VEVENT
BEGIN:VTIMEZONE
TZID:America/Chicago
BEGIN:DAYLIGHT
TZOFFSETFROM:-0600
TZOFFSETTO:-0500
DTSTART:20220313T080000
TZNAME:CDT
END:DAYLIGHT
END:VTIMEZONE
END:VCALENDAR
