BEGIN:VCALENDAR
VERSION:2.0
PRODID:-//Ophthalmology &amp; Visual Sciences//NONSGML Events//EN
CALSCALE:GREGORIAN
X-ORIGINAL-URL:https://ophthalmology.wustl.edu/calendar/
X-WR-CALDESC:Ophthalmology &amp; Visual Sciences - Events
BEGIN:VEVENT
UID:20220909T1105Z-1662721527.5589-EO-19021-1@172.23.128.19
STATUS:CONFIRMED
DTSTAMP:20260425T185957Z
CREATED:20220907T174433Z
LAST-MODIFIED:20230413T222240Z
DTSTART;TZID=America/Chicago:20230420T100000
DTEND;TZID=America/Chicago:20230420T110000
SUMMARY: Vision Science Seminar-4/20
DESCRIPTION: Vision Science Seminar “Insights on Fovea Development: Molecul
 ar Mechanisms From Multiple Model Systems” Presented by Susana da Silva\, P
 hD Assistant  Professor\, Ophthalmology University of Pittsburgh School of 
 Medicine *Please contact hughestraciem@wustl.edu for Zoom details
X-ALT-DESC;FMTTYPE=text/html: <p class="entry-title" style="text-align: cen
 ter\;"><strong>Vision Science Seminar</strong></p><div class="entry-content
 "><p style="text-align: center\;"><em><strong>"Insights on Fovea Developmen
 t: Molecular Mechanisms From Multiple Model Systems"</strong></em></p><p st
 yle="text-align: center\;">Presented by</p><p style="text-align: center\;">
 <a href="http://ophthalmology.pitt.edu/people/susana-da-silva-phd">Susana d
 a Silva\, PhD</a></p><p class="washu-ppi-description" style="text-align: ce
 nter\;">Assistant  Professor\, Ophthalmology</p><p style="text-align: cente
 r\;">University of Pittsburgh School of Medicine</p><p style="text-align: c
 enter\;"><strong>*Please contact </strong><a href="mailto:hughestraciem@wus
 tl.edu"><strong>hughestraciem@wustl.edu</strong></a><strong> for Zoom detai
 ls</strong></p></div>
CATEGORIES:All,Vision Science Seminar
ORGANIZER;CN="Katy":MAILTO:kpaglusch@wustl.edu
URL;VALUE=URI:https://ophthalmology.wustl.edu/calendar/event/vision-science
 -seminar-4-20/
END:VEVENT
BEGIN:VTIMEZONE
TZID:America/Chicago
BEGIN:DAYLIGHT
TZOFFSETFROM:-0600
TZOFFSETTO:-0500
DTSTART:20230312T080000
TZNAME:CDT
END:DAYLIGHT
END:VTIMEZONE
END:VCALENDAR
