BEGIN:VCALENDAR
VERSION:2.0
PRODID:-//Ophthalmology &amp; Visual Sciences//NONSGML Events//EN
CALSCALE:GREGORIAN
X-ORIGINAL-URL:https://ophthalmology.wustl.edu/calendar/
X-WR-CALDESC:Ophthalmology &amp; Visual Sciences - Events
BEGIN:VEVENT
UID:20211010T0330Z-1633836606.6975-EO-7397-1@172.23.128.19
STATUS:CONFIRMED
DTSTAMP:20260424T200949Z
CREATED:20200511T154710Z
LAST-MODIFIED:20200521T160744Z
DTSTART;TZID=America/Chicago:20200611T120000
DTEND;TZID=America/Chicago:20200611T130000
SUMMARY: Vision Science Seminar
DESCRIPTION: Vision Science Seminar “Topical Drug Delivery to the Retina” P
 resented by Nathan Ravi\, MD\, PhD\, MS\, FAAO Professor\, Ophthalmology an
 d Visual Sciences
X-ALT-DESC;FMTTYPE=text/html: <h3 style="text-align: center\;">Vision Scien
 ce Seminar</h3><h5 style="text-align: center\;"><i>“Topical Drug Delivery t
 o the Retina”</i></h5><h5 style="text-align: center\;">Presented by</h5><h5
  style="text-align: center\;"><a href="https://ophthalmology.wustl.edu/peop
 le/nathan-ravi-ms-phd-md-faao/">Nathan Ravi\, MD\, PhD\, MS\, FAAO</a><br /
 >Professor\, Ophthalmology and Visual Sciences</h5>
CATEGORIES:All,Vision Science Seminar
LOCATION:Zoom Platform
GEO:41.875562;-87.624421
ORGANIZER;CN="Katy":MAILTO:kpaglusch@wustl.edu
URL;VALUE=URI:https://ophthalmology.wustl.edu/calendar/event/vision-science
 -seminar-42/
END:VEVENT
BEGIN:VTIMEZONE
TZID:America/Chicago
BEGIN:DAYLIGHT
TZOFFSETFROM:-0600
TZOFFSETTO:-0500
DTSTART:20200308T080000
TZNAME:CDT
END:DAYLIGHT
END:VTIMEZONE
END:VCALENDAR
