BEGIN:VCALENDAR
VERSION:2.0
PRODID:-//Ophthalmology &amp; Visual Sciences//NONSGML Events//EN
CALSCALE:GREGORIAN
X-ORIGINAL-URL:https://ophthalmology.wustl.edu/calendar/
X-WR-CALDESC:Ophthalmology &amp; Visual Sciences - Events
BEGIN:VEVENT
UID:20211010T0327Z-1633836423.5105-EO-7400-1@172.23.128.19
STATUS:CONFIRMED
DTSTAMP:20260424T200948Z
CREATED:20200511T165456Z
LAST-MODIFIED:20200612T161256Z
DTSTART;TZID=America/Chicago:20200625T120000
DTEND;TZID=America/Chicago:20200625T130000
SUMMARY: Vision Science Seminar
DESCRIPTION: Vision Science Seminar “Uveitis in a drop: Insights on human o
 cular immunology from single-cell RNA sequencing” Presented by Lynn Hassman
 \, MD\, PhD Assistant Professor\, Ophthalmology and Visual Sciences
X-ALT-DESC;FMTTYPE=text/html: <h3 style="text-align: center\;">Vision Scien
 ce Seminar</h3><p style="text-align: center\;"><strong>"Uveitis in a drop: 
 Insights on human ocular immunology from single-cell RNA sequencing"</stron
 g></p><h5 style="text-align: center\;">Presented by</h5><h5 style="text-ali
 gn: center\;"><a href="https://ophthalmology.wustl.edu/people/lynn-hassman-
 md-phd/">Lynn Hassman\, MD\, PhD</a><br />Assistant Professor\, Ophthalmolo
 gy and Visual Sciences</h5>
CATEGORIES:All,Vision Science Seminar
LOCATION:Zoom Platform
GEO:41.875562;-87.624421
ORGANIZER;CN="Katy":MAILTO:kpaglusch@wustl.edu
URL;VALUE=URI:https://ophthalmology.wustl.edu/calendar/event/vision-science
 -seminar-43/
END:VEVENT
BEGIN:VTIMEZONE
TZID:America/Chicago
BEGIN:DAYLIGHT
TZOFFSETFROM:-0600
TZOFFSETTO:-0500
DTSTART:20200308T080000
TZNAME:CDT
END:DAYLIGHT
END:VTIMEZONE
END:VCALENDAR
