BEGIN:VCALENDAR
VERSION:2.0
PRODID:-//Ophthalmology &amp; Visual Sciences//NONSGML Events//EN
CALSCALE:GREGORIAN
X-ORIGINAL-URL:https://ophthalmology.wustl.edu/calendar/
X-WR-CALDESC:Ophthalmology &amp; Visual Sciences - Events
BEGIN:VEVENT
UID:20211010T0327Z-1633836452.0536-EO-7403-1@172.23.128.19
STATUS:CONFIRMED
DTSTAMP:20260424T201032Z
CREATED:20200511T165611Z
LAST-MODIFIED:20200521T160857Z
DTSTART;TZID=America/Chicago:20200618T120000
DTEND;TZID=America/Chicago:20200618T130000
SUMMARY: Vision Science Seminar
DESCRIPTION: Vision Science Seminar Presented by Alan Shiels\, PhD Professo
 r\, Ophthalmology and Visual Sciences
X-ALT-DESC;FMTTYPE=text/html: <h3 style="text-align: center\;">Vision Scien
 ce Seminar</h3><h5 style="text-align: center\;">Presented by</h5><h5 style=
 "text-align: center\;"><a href="https://ophthalmology.wustl.edu/people/alan
 -shiels-phd/">Alan Shiels\, PhD</a><br />Professor\, Ophthalmology and Visu
 al Sciences</h5>
CATEGORIES:All,Vision Science Seminar
LOCATION:Zoom Platform
GEO:41.875562;-87.624421
ORGANIZER;CN="Katy":MAILTO:kpaglusch@wustl.edu
URL;VALUE=URI:https://ophthalmology.wustl.edu/calendar/event/vision-science
 -seminar-44/
END:VEVENT
BEGIN:VTIMEZONE
TZID:America/Chicago
BEGIN:DAYLIGHT
TZOFFSETFROM:-0600
TZOFFSETTO:-0500
DTSTART:20200308T080000
TZNAME:CDT
END:DAYLIGHT
END:VTIMEZONE
END:VCALENDAR
