BEGIN:VCALENDAR
VERSION:2.0
PRODID:-//Ophthalmology &amp; Visual Sciences//NONSGML Events//EN
CALSCALE:GREGORIAN
X-ORIGINAL-URL:https://ophthalmology.wustl.edu/calendar/
X-WR-CALDESC:Ophthalmology &amp; Visual Sciences - Events
BEGIN:VEVENT
UID:20211010T0322Z-1633836156.4285-EO-8309-1@172.23.128.19
STATUS:CONFIRMED
DTSTAMP:20260419T055037Z
CREATED:20200812T211914Z
LAST-MODIFIED:20201001T142139Z
DTSTART;TZID=America/Chicago:20201029T100000
DTEND;TZID=America/Chicago:20201029T110000
SUMMARY: Vision Science Seminar
DESCRIPTION: Vision Science Seminar “Maternal Immunity and Neonatal Herpes 
 Simplex Virus Infections” Presented By David Leib\, PhD Professor and Chair
 \, Department of Microbiology & Immunology Geisel School of Medicine at Dar
 tmouth Please contact macey.alexander@wustl.edu for Zoom details
X-ALT-DESC;FMTTYPE=text/html: <h3 style="text-align: center\;">Vision Scien
 ce Seminar</h3><h4 style="text-align: center\;"><i>"Maternal Immunity and N
 eonatal Herpes Simplex Virus Infections"</i></h4><p style="text-align: cent
 er\;"><strong>Presented By</strong></p><p style="text-align: center\;"><str
 ong><a href="https://geiselmed.dartmouth.edu/faculty/facultydb/view.php/?ui
 d=3535">David Leib\, PhD</a></strong></p><p style="text-align: center\;"><s
 trong>Professor and Chair\,</strong></p><p style="text-align: center\;"><st
 rong>Department of Microbiology & Immunology</strong></p><p style="text-ali
 gn: center\;"><strong>Geisel School of Medicine at Dartmouth</strong></p><p
  style="text-align: center\;">Please contact <a href="mailto:macey.alexande
 r@wustl.edu">macey.alexander@wustl.edu</a> for Zoom details</p><p style="te
 xt-align: center\;">
CATEGORIES:All,Vision Science Seminar,Visiting Professor
LOCATION:Zoom Platform
GEO:41.875562;-87.624421
ORGANIZER;CN="Macey":MAILTO:macey.alexander@wustl.edu
URL;VALUE=URI:https://ophthalmology.wustl.edu/calendar/event/vision-science
 -seminar-48/
END:VEVENT
BEGIN:VTIMEZONE
TZID:America/Chicago
BEGIN:DAYLIGHT
TZOFFSETFROM:-0600
TZOFFSETTO:-0500
DTSTART:20200308T080000
TZNAME:CDT
END:DAYLIGHT
END:VTIMEZONE
END:VCALENDAR
