BEGIN:VCALENDAR
VERSION:2.0
PRODID:-//Ophthalmology &amp; Visual Sciences//NONSGML Events//EN
CALSCALE:GREGORIAN
X-ORIGINAL-URL:https://ophthalmology.wustl.edu/calendar/
X-WR-CALDESC:Ophthalmology &amp; Visual Sciences - Events
BEGIN:VEVENT
UID:20211009T0050Z-1633740603.3458-EO-8321-1@172.23.128.19
STATUS:CONFIRMED
DTSTAMP:20260424T201030Z
CREATED:20200812T213003Z
LAST-MODIFIED:20201111T233708Z
DTSTART;TZID=America/Chicago:20201203T100000
DTEND;TZID=America/Chicago:20201203T110000
SUMMARY: Vision Science Seminar
DESCRIPTION: Vision Science Seminar “Bench to Bedside: The Development of a
  Novel Ophthalmic Antibiotic” Presented By Rachel Wozniak\, MD\, PhD Assist
 ant Professor\, Department of Ophthalmology Flaum Eye Institute University 
 of Rochester Please contact macey.alexander@wustl.edu for Zoom details
X-ALT-DESC;FMTTYPE=text/html: <h3 style="text-align: center\;"><strong>Visi
 on Science Seminar</strong></h3><h4 style="text-align: center\;"><em>"Bench
  to Bedside: The Development of a Novel Ophthalmic Antibiotic"</em></h4><p 
 style="text-align: center\;"><strong>Presented By</strong></p><p style="tex
 t-align: center\;"><a href="https://www.urmc.rochester.edu/people/28361176-
 rachel-a-f-wozniak"><strong>Rachel Wozniak\, MD\, PhD</strong></a></p><p st
 yle="text-align: center\;"><strong>Assistant Professor\, Department of Opht
 halmology</strong></p><p style="text-align: center\;"><strong>Flaum Eye Ins
 titute</strong></p><p style="text-align: center\;"><strong>University of Ro
 chester</strong></p><p style="text-align: center\;">Please contact <a href=
 "mailto:macey.alexander@wustl.edu">macey.alexander@wustl.edu</a> for Zoom d
 etails</p>
CATEGORIES:All,Vision Science Seminar,Visiting Professor
LOCATION:Zoom Platform
GEO:41.875562;-87.624421
ORGANIZER;CN="Macey":MAILTO:macey.alexander@wustl.edu
URL;VALUE=URI:https://ophthalmology.wustl.edu/calendar/event/vision-science
 -seminar-50/
END:VEVENT
BEGIN:VTIMEZONE
TZID:America/Chicago
BEGIN:STANDARD
TZOFFSETFROM:-0500
TZOFFSETTO:-0600
DTSTART:20201101T070000
TZNAME:CST
END:STANDARD
END:VTIMEZONE
END:VCALENDAR
