BEGIN:VCALENDAR
VERSION:2.0
PRODID:-//Ophthalmology &amp; Visual Sciences//NONSGML Events//EN
CALSCALE:GREGORIAN
X-ORIGINAL-URL:https://ophthalmology.wustl.edu/calendar/
X-WR-CALDESC:Ophthalmology &amp; Visual Sciences - Events
BEGIN:VEVENT
UID:20210928T0443Z-1632804217.5029-EO-8333-1@172.23.128.18
STATUS:CONFIRMED
DTSTAMP:20260424T111834Z
CREATED:20200814T202816Z
LAST-MODIFIED:20210104T205102Z
DTSTART;TZID=America/Chicago:20210107T100000
DTEND;TZID=America/Chicago:20210107T110000
SUMMARY: Vision Science Seminar
DESCRIPTION: Vision Science Seminar “Toward modeling race as a glaucoma ris
 k factor with mice” Presented By Michael Anderson\, PhD Professor\, Molecul
 ar Physiology and Biophysics\, Ophthalmology and Visual Sciences University
  of Iowa Please contact macey.alexander@wustl.edu for Zoom details
X-ALT-DESC;FMTTYPE=text/html: <h3 style="text-align: center\;">Vision Scien
 ce Seminar</h3><h4 style="text-align: center\;">"Toward modeling race as a 
 glaucoma risk factor with mice"</h4><h4 style="text-align: center\;"><stron
 g style="font-size: 22.4px\;">Presen</strong><strong>ted By</strong></h4><p
  style="text-align: center\;"><a href="https://medicine.uiowa.edu/physiolog
 y/profile/michael-anderson"><b>Michael Anderson\, PhD</b></a></p><p style="
 text-align: center\;"><strong>Professor\, Molecular Physiology and Biophysi
 cs\, Ophthalmology and Visual Sciences</strong></p><p style="text-align: ce
 nter\;"><b>University of Iowa</b></p><p style="text-align: center\;">Please
  contact <a href="mailto:macey.alexander@wustl.edu">macey.alexander@wustl.e
 du</a> for Zoom details</p>
CATEGORIES:All,Vision Science Seminar,Visiting Professor
LOCATION:Zoom Platform
GEO:41.875562;-87.624421
ORGANIZER;CN="Macey":MAILTO:macey.alexander@wustl.edu
URL;VALUE=URI:https://ophthalmology.wustl.edu/calendar/event/vision-science
 -seminar-53/
END:VEVENT
BEGIN:VTIMEZONE
TZID:America/Chicago
BEGIN:STANDARD
TZOFFSETFROM:-0500
TZOFFSETTO:-0600
DTSTART:20201101T070000
TZNAME:CST
END:STANDARD
END:VTIMEZONE
END:VCALENDAR
