BEGIN:VCALENDAR
VERSION:2.0
PRODID:-//Ophthalmology &amp; Visual Sciences//NONSGML Events//EN
CALSCALE:GREGORIAN
X-ORIGINAL-URL:https://ophthalmology.wustl.edu/calendar/
X-WR-CALDESC:Ophthalmology &amp; Visual Sciences - Events
BEGIN:VEVENT
UID:20210928T0443Z-1632804216.0411-EO-8336-1@172.23.128.18
STATUS:CONFIRMED
DTSTAMP:20260424T165631Z
CREATED:20201223T162218Z
LAST-MODIFIED:20210108T150545Z
DTSTART;TZID=America/Chicago:20210114T160000
DTEND;TZID=America/Chicago:20210114T170000
SUMMARY: Vision Science Seminar
DESCRIPTION: Vision Science Seminar “Axonal Health: Metabolism Takes Center
  Stage” Presented By Jeffrey Milbrandt\, MD\, PhD James S. McDonnell Profes
 sor and Chair of Genetics Washington University School of Medicine Please c
 ontact macey.alexander@wustl.edu for Zoom details
X-ALT-DESC;FMTTYPE=text/html: <h3 style="text-align: center\;">Vision Scien
 ce Seminar</h3><h4 style="text-align: center\;"><em>"Axonal Health: Metabol
 ism Takes Center Stage"</em></h4><h4 style="text-align: center\;"><strong s
 tyle="font-size: 22.4px\;">Presen</strong><strong>ted By</strong></h4><p st
 yle="text-align: center\;"><a href="http://genetics.wustl.edu/staff-members
 /jeffrey-milbrandt-md-phd/"><b>Jeffrey Milbrandt\, MD\, PhD</b></a></p><p s
 tyle="text-align: center\;"><strong>James S. McDonnell Professor and Chair 
 of Genetics</strong></p><p style="text-align: center\;"><b>Washington Unive
 rsity School of Medicine</b></p><p style="text-align: center\;">Please cont
 act <a href="mailto:macey.alexander@wustl.edu">macey.alexander@wustl.edu</a
 > for Zoom details</p>
CATEGORIES:All,Vision Science Seminar
LOCATION:Zoom Platform
GEO:41.875562;-87.624421
ORGANIZER;CN="Macey":MAILTO:macey.alexander@wustl.edu
URL;VALUE=URI:https://ophthalmology.wustl.edu/calendar/event/vision-science
 -seminar-54/
END:VEVENT
BEGIN:VTIMEZONE
TZID:America/Chicago
BEGIN:STANDARD
TZOFFSETFROM:-0500
TZOFFSETTO:-0600
DTSTART:20201101T070000
TZNAME:CST
END:STANDARD
END:VTIMEZONE
END:VCALENDAR
