BEGIN:VCALENDAR
VERSION:2.0
PRODID:-//Ophthalmology &amp; Visual Sciences//NONSGML Events//EN
CALSCALE:GREGORIAN
X-ORIGINAL-URL:https://ophthalmology.wustl.edu/calendar/
X-WR-CALDESC:Ophthalmology &amp; Visual Sciences - Events
BEGIN:VEVENT
UID:20210928T0443Z-1632804217.7193-EO-8339-1@172.23.128.18
STATUS:CONFIRMED
DTSTAMP:20260424T142430Z
CREATED:20200814T203526Z
LAST-MODIFIED:20210112T180228Z
DTSTART;TZID=America/Chicago:20210121T100000
DTEND;TZID=America/Chicago:20210121T110000
SUMMARY: Vision Science Seminar
DESCRIPTION: Vision Science Seminar “Unraveling Niche-Specific Function of 
 Microglia Using the Mouse Retina” Presented By Daniel R. Saban\, PhD Associ
 ate Professor of Ophthalmology\; Assistant Professor in Immunology Duke Uni
 versity Please contact macey.alexander@wustl.edu for Zoom details
X-ALT-DESC;FMTTYPE=text/html: <h3 style="text-align: center\;">Vision Scien
 ce Seminar</h3><h4 style="text-align: center\;"><em>"Unraveling Niche-Speci
 fic Function of Microglia Using the Mouse Retina"</em></h4><h4 style="text-
 align: center\;"><strong style="font-size: 22.4px\;">Presen</strong><strong
 >ted By</strong></h4><p style="text-align: center\;"><strong><a href="https
 ://dukeeyecenter.duke.edu/about/faculty/daniel-raphael-saban-phd">Daniel R.
  Saban\, PhD</a></strong></p><p style="text-align: center\;"><strong>Associ
 ate Professor of Ophthalmology\; Assistant Professor in Immunology</strong>
 </p><p style="text-align: center\;"><b>Duke University</b></p><p style="tex
 t-align: center\;">Please contact <a href="mailto:macey.alexander@wustl.edu
 ">macey.alexander@wustl.edu</a> for Zoom details</p>
CATEGORIES:All,Vision Science Seminar,Visiting Professor
LOCATION:Zoom Platform
GEO:41.875562;-87.624421
ORGANIZER;CN="Macey":MAILTO:macey.alexander@wustl.edu
URL;VALUE=URI:https://ophthalmology.wustl.edu/calendar/event/vision-science
 -seminar-55/
END:VEVENT
BEGIN:VTIMEZONE
TZID:America/Chicago
BEGIN:STANDARD
TZOFFSETFROM:-0500
TZOFFSETTO:-0600
DTSTART:20201101T070000
TZNAME:CST
END:STANDARD
END:VTIMEZONE
END:VCALENDAR
