BEGIN:VCALENDAR
VERSION:2.0
PRODID:-//Ophthalmology &amp; Visual Sciences//NONSGML Events//EN
CALSCALE:GREGORIAN
X-ORIGINAL-URL:https://ophthalmology.wustl.edu/calendar/
X-WR-CALDESC:Ophthalmology &amp; Visual Sciences - Events
BEGIN:VEVENT
UID:20210928T0443Z-1632804216.0369-EO-8342-1@172.23.128.18
STATUS:CONFIRMED
DTSTAMP:20260423T190409Z
CREATED:20210122T170241Z
LAST-MODIFIED:20210122T170155Z
DTSTART;TZID=America/Chicago:20210128T100000
DTEND;TZID=America/Chicago:20210128T110000
SUMMARY: Vision Science Seminar
DESCRIPTION: Vision Science Seminar “Glaucoma and COVID-19..Affecting Peopl
 e’s Lives in Similar Ways” Presented By Anjali Bhorade\, MD Associate Profe
 ssor\, Ophthalmology and Visual Sciences Washington University School of Me
 dicine Please contact macey.alexander@wustl.edu for Zoom details
X-ALT-DESC;FMTTYPE=text/html: <h3 style="text-align: center\;">Vision Scien
 ce Seminar</h3><h4 style="text-align: center\;"><em>"Glaucoma and COVID-19.
 .Affecting People's Lives in Similar Ways"</em></h4><p style="text-align: c
 enter\;"><strong>Presented By</strong></p><p style="text-align: center\;"><
 strong><a href="https://ophthalmology.wustl.edu/people/anjali-bhorade-md/">
 Anjali Bhorade\, MD</a></strong></p><p style="text-align: center\;"><strong
 >Associate Professor\, Ophthalmology and Visual Sciences</strong></p><p sty
 le="text-align: center\;"><strong>Washington University School of Medicine<
 /strong></p><p style="text-align: center\;">Please contact <a href="mailto:
 macey.alexander@wustl.edu">macey.alexander@wustl.edu</a> for Zoom details</
 p>
CATEGORIES:All,Vision Science Seminar
LOCATION:Zoom Platform
GEO:41.875562;-87.624421
ORGANIZER;CN="Macey":MAILTO:macey.alexander@wustl.edu
URL;VALUE=URI:https://ophthalmology.wustl.edu/calendar/event/vision-science
 -seminar-56/
END:VEVENT
BEGIN:VTIMEZONE
TZID:America/Chicago
BEGIN:STANDARD
TZOFFSETFROM:-0500
TZOFFSETTO:-0600
DTSTART:20201101T070000
TZNAME:CST
END:STANDARD
END:VTIMEZONE
END:VCALENDAR
