BEGIN:VCALENDAR
VERSION:2.0
PRODID:-//Ophthalmology &amp; Visual Sciences//NONSGML Events//EN
CALSCALE:GREGORIAN
X-ORIGINAL-URL:https://ophthalmology.wustl.edu/calendar/
X-WR-CALDESC:Ophthalmology &amp; Visual Sciences - Events
BEGIN:VEVENT
UID:20210928T0443Z-1632804210.8782-EO-8348-1@172.23.128.18
STATUS:CONFIRMED
DTSTAMP:20260423T211607Z
CREATED:20200129T164535Z
LAST-MODIFIED:20210129T164504Z
DTSTART;TZID=America/Chicago:20210204T140000
DTEND;TZID=America/Chicago:20210204T150000
SUMMARY: Vision Science Seminar
DESCRIPTION: Vision Science Seminar “Reduce\, Reuse\, Recycle: A New Mechan
 ism of Retinal Gene Regulation” Presented By Philip Ruzycki\, PhD Assistant
  Professor\, Ophthalmology and Visual Sciences Washington University School
  of Medicine Please contact macey.alexander@wustl.edu for Zoom details
X-ALT-DESC;FMTTYPE=text/html: <h3 style="text-align: center\;">Vision Scien
 ce Seminar</h3><h4 style="text-align: center\;"><em>"Reduce\, Reuse\, Recyc
 le: A New Mechanism of Retinal Gene Regulation"</em></h4><p style="text-ali
 gn: center\;"><strong>Presented By</strong></p><p style="text-align: center
 \;"><a href="https://ophthalmology.wustl.edu/people/philip-ruzycki-phd/"><b
 >Philip Ruzycki\, PhD</b></a></p><p style="text-align: center\;"><strong>As
 sistant Professor\, Ophthalmology and Visual Sciences</strong></p><p style=
 "text-align: center\;"><strong>Washington University School of Medicine</st
 rong></p><p style="text-align: center\;">Please contact <a href="mailto:mac
 ey.alexander@wustl.edu">macey.alexander@wustl.edu</a> for Zoom details</p>
CATEGORIES:All,Vision Science Seminar
LOCATION:Zoom Platform
GEO:41.875562;-87.624421
ORGANIZER;CN="Macey":MAILTO:macey.alexander@wustl.edu
URL;VALUE=URI:https://ophthalmology.wustl.edu/calendar/event/vision-science
 -seminar-57/
END:VEVENT
BEGIN:VTIMEZONE
TZID:America/Chicago
BEGIN:STANDARD
TZOFFSETFROM:-0500
TZOFFSETTO:-0600
DTSTART:20201101T070000
TZNAME:CST
END:STANDARD
END:VTIMEZONE
END:VCALENDAR
