BEGIN:VCALENDAR
VERSION:2.0
PRODID:-//Ophthalmology &amp; Visual Sciences//NONSGML Events//EN
CALSCALE:GREGORIAN
X-ORIGINAL-URL:https://ophthalmology.wustl.edu/calendar/
X-WR-CALDESC:Ophthalmology &amp; Visual Sciences - Events
BEGIN:VEVENT
UID:20210928T0443Z-1632804209.1474-EO-8354-1@172.23.128.18
STATUS:CONFIRMED
DTSTAMP:20260424T142540Z
CREATED:20200814T204401Z
LAST-MODIFIED:20210209T143706Z
DTSTART;TZID=America/Chicago:20210218T100000
DTEND;TZID=America/Chicago:20210218T110000
SUMMARY: Vision Science Seminar
DESCRIPTION: Vision Science Seminar “Modulating Photoreceptor Survival and 
 Function”  Presented By Vladimir Kefalov\, PhD Dr. Bernard Becker and Janet
  R. Becker Distinguished Professor in Ophthalmology Washington University S
 chool of Medicine Please contact macey.alexander@wustl.edu for Zoom details
X-ALT-DESC;FMTTYPE=text/html: <h3 style="text-align: center\;">Vision Scien
 ce Seminar</h3><h4 style="text-align: center\;"><em>"Modulating Photorecept
 or Survival and Function" </em></h4><p style="text-align: center\;"><strong
 >Presented By</strong></p><p style="text-align: center\;"><a href="https://
 ophthalmology.wustl.edu/people/vladimir-kefalov-phd/"><b>Vladimir Kefalov\,
  PhD</b></a></p><p style="text-align: center\;"><strong>Dr. Bernard Becker 
 and Janet R. Becker Distinguished Professor in Ophthalmology</strong></p><p
  style="text-align: center\;"><strong>Washington University School of Medic
 ine</strong></p><p style="text-align: center\;">Please contact <a href="mai
 lto:macey.alexander@wustl.edu">macey.alexander@wustl.edu</a> for Zoom detai
 ls</p>
CATEGORIES:All,Vision Science Seminar
LOCATION:Zoom Platform
GEO:41.875562;-87.624421
ORGANIZER;CN="Macey":MAILTO:macey.alexander@wustl.edu
URL;VALUE=URI:https://ophthalmology.wustl.edu/calendar/event/vision-science
 -seminar-59/
END:VEVENT
BEGIN:VTIMEZONE
TZID:America/Chicago
BEGIN:STANDARD
TZOFFSETFROM:-0500
TZOFFSETTO:-0600
DTSTART:20201101T070000
TZNAME:CST
END:STANDARD
END:VTIMEZONE
END:VCALENDAR
