BEGIN:VCALENDAR
VERSION:2.0
PRODID:-//Ophthalmology &amp; Visual Sciences//NONSGML Events//EN
CALSCALE:GREGORIAN
X-ORIGINAL-URL:https://ophthalmology.wustl.edu/calendar/
X-WR-CALDESC:Ophthalmology &amp; Visual Sciences - Events
BEGIN:VEVENT
UID:20211008T0856Z-1633683375.1936-EO-6734-1@172.23.128.18
STATUS:CONFIRMED
DTSTAMP:20260425T212019Z
CREATED:20200421T165326Z
LAST-MODIFIED:20200421T165326Z
DTSTART;TZID=America/Chicago:20200213T120000
DTEND;TZID=America/Chicago:20200213T130000
SUMMARY: Vision Science Seminar
DESCRIPTION: Vision Science Seminar Presented By Valeria Cavalli PhD Profes
 sor\, Department of Neuroscience Washington University School of Medicine “
 Neuronal and Glial Mechanisms Regulating Nerve Regeneration”
X-ALT-DESC;FMTTYPE=text/html: <h3 style="text-align: center\;">Vision Scien
 ce Seminar</h3><p style="text-align: center\;">Presented By</p><p style="te
 xt-align: center\;"><a href="http://neurosci.wustl.edu/cavallilab">Valeria 
 Cavalli PhD</a></p><p style="text-align: center\;">Professor\,</p><p style=
 "text-align: center\;">Department of Neuroscience</p><p style="text-align: 
 center\;">Washington University School of Medicine</p><p style="text-align:
  center\;">"Neuronal and Glial Mechanisms Regulating Nerve Regeneration"</p
 >
CATEGORIES:All,Vision Science Seminar
LOCATION:Maternity Building 7th floor Conference room 725
GEO:38.636054;-90.263014
ORGANIZER;CN="Zach":MAILTO:zflauaus@wustl.edu
URL;VALUE=URI:https://ophthalmology.wustl.edu/calendar/event/vision-science
 -seminar-6/
END:VEVENT
BEGIN:VTIMEZONE
TZID:America/Chicago
BEGIN:STANDARD
TZOFFSETFROM:-0500
TZOFFSETTO:-0600
DTSTART:20191103T070000
TZNAME:CST
END:STANDARD
END:VTIMEZONE
END:VCALENDAR
