BEGIN:VCALENDAR
VERSION:2.0
PRODID:-//Ophthalmology &amp; Visual Sciences//NONSGML Events//EN
CALSCALE:GREGORIAN
X-ORIGINAL-URL:https://ophthalmology.wustl.edu/calendar/
X-WR-CALDESC:Ophthalmology &amp; Visual Sciences - Events
BEGIN:VEVENT
UID:20210928T0443Z-1632804207.8255-EO-8357-1@172.23.128.18
STATUS:CONFIRMED
DTSTAMP:20260424T113207Z
CREATED:20200814T204551Z
LAST-MODIFIED:20210218T223134Z
DTSTART;TZID=America/Chicago:20210225T100000
DTEND;TZID=America/Chicago:20210225T110000
SUMMARY: Vision Science Seminar
DESCRIPTION: Vision Science Seminar “Biochemical Signals as Integrators in 
 the Brain: What Do They Integrate and What For?” Presented By Yao Chen\, Ph
 D Assistant Professor in Neuroscience  Washington University School of Medi
 cine Please contact macey.alexander@wustl.edu for Zoom details
X-ALT-DESC;FMTTYPE=text/html: <h3 style="text-align: center\;">Vision Scien
 ce Seminar</h3><h4 style="text-align: center\;"><em>"Biochemical Signals as
  Integrators in the Brain: What Do They Integrate and What For?"</em></h4><
 p style="text-align: center\;"><strong>Presented By</strong></p><p style="t
 ext-align: center\;"><a href="http://neurosci.wustl.edu/People/Faculty/Yao-
 Chen"><b>Yao Chen\, PhD</b></a></p><p style="text-align: center\;"><strong>
 Assistant Professor in Neuroscience </strong></p><p style="text-align: cent
 er\;"><strong>Washington University School of Medicine</strong></p><p style
 ="text-align: center\;">Please contact <a href="mailto:macey.alexander@wust
 l.edu">macey.alexander@wustl.edu</a> for Zoom details</p>
CATEGORIES:All,Vision Science Seminar
LOCATION:Zoom Platform
GEO:41.875562;-87.624421
ORGANIZER;CN="Macey":MAILTO:macey.alexander@wustl.edu
URL;VALUE=URI:https://ophthalmology.wustl.edu/calendar/event/vision-science
 -seminar-60/
END:VEVENT
BEGIN:VTIMEZONE
TZID:America/Chicago
BEGIN:STANDARD
TZOFFSETFROM:-0500
TZOFFSETTO:-0600
DTSTART:20201101T070000
TZNAME:CST
END:STANDARD
END:VTIMEZONE
END:VCALENDAR
