BEGIN:VCALENDAR
VERSION:2.0
PRODID:-//Ophthalmology &amp; Visual Sciences//NONSGML Events//EN
CALSCALE:GREGORIAN
X-ORIGINAL-URL:https://ophthalmology.wustl.edu/calendar/
X-WR-CALDESC:Ophthalmology &amp; Visual Sciences - Events
BEGIN:VEVENT
UID:20210928T0443Z-1632804208.8914-EO-8360-1@172.23.128.18
STATUS:CONFIRMED
DTSTAMP:20260424T112552Z
CREATED:20200814T204743Z
LAST-MODIFIED:20210226T195248Z
DTSTART;TZID=America/Chicago:20210304T100000
DTEND;TZID=America/Chicago:20210304T110000
SUMMARY: Vision Science Seminar
DESCRIPTION: Vision Science Seminar “Single-cell RNA-sequencing of the Deve
 loping Retina: Past Findings and Future Directions” Presented By Brian Clar
 k\, PhD Assistant Professor\, Ophthalmology and Visual Sciences  Washington
  University School of Medicine Please contact macey.alexander@wustl.edu for
  Zoom details
X-ALT-DESC;FMTTYPE=text/html: <h3 style="text-align: center\;">Vision Scien
 ce Seminar</h3><h4 style="text-align: center\;"><em>"Single-cell RNA-sequen
 cing of the Developing Retina: Past Findings and Future Directions"</em></h
 4><p style="text-align: center\;"><strong>Presented By</strong></p><p style
 ="text-align: center\;"><a href="https://ophthalmology.wustl.edu/people/bri
 an-clark-phd/"><b>Brian Clark\, PhD</b></a></p><p style="text-align: center
 \;"><strong>Assistant Professor\, Ophthalmology and Visual Sciences </stron
 g></p><p style="text-align: center\;"><strong>Washington University School 
 of Medicine</strong></p><p style="text-align: center\;">Please contact <a h
 ref="mailto:macey.alexander@wustl.edu">macey.alexander@wustl.edu</a> for Zo
 om details</p>
CATEGORIES:All,Vision Science Seminar
LOCATION:Zoom Platform
GEO:41.875562;-87.624421
ORGANIZER;CN="Macey":MAILTO:macey.alexander@wustl.edu
URL;VALUE=URI:https://ophthalmology.wustl.edu/calendar/event/vision-science
 -seminar-61/
END:VEVENT
BEGIN:VTIMEZONE
TZID:America/Chicago
BEGIN:STANDARD
TZOFFSETFROM:-0500
TZOFFSETTO:-0600
DTSTART:20201101T070000
TZNAME:CST
END:STANDARD
END:VTIMEZONE
END:VCALENDAR
