BEGIN:VCALENDAR
VERSION:2.0
PRODID:-//Ophthalmology &amp; Visual Sciences//NONSGML Events//EN
CALSCALE:GREGORIAN
X-ORIGINAL-URL:https://ophthalmology.wustl.edu/calendar/
X-WR-CALDESC:Ophthalmology &amp; Visual Sciences - Events
BEGIN:VEVENT
UID:20210928T0443Z-1632804199.0591-EO-8363-1@172.23.128.18
STATUS:CONFIRMED
DTSTAMP:20260423T201541Z
CREATED:20210301T224955Z
LAST-MODIFIED:20210311T221452Z
DTSTART;TZID=America/Chicago:20210415T100000
DTEND;TZID=America/Chicago:20210415T110000
SUMMARY: Vision Science Seminar
DESCRIPTION: Vision Science Seminar “Childhood Glaucoma Genetics: New Insig
 hts” Presented By Terri Young\, MD\, MBA Professor of Ophthalmology\, Depar
 tment Chair of Ophthalmology and Visual Sciences University of Wisconsin – 
 Madison Please contact macey.alexander@wustl.edu for Zoom details
X-ALT-DESC;FMTTYPE=text/html: <h3 style="text-align: center\;">Vision Scien
 ce Seminar</h3><h4 style="text-align: center\;"><em>"Childhood Glaucoma Gen
 etics: New Insights"</em></h4><p style="text-align: center\;"><strong>Prese
 nted By</strong></p><p style="text-align: center\;"><a href="https://www.op
 hth.wisc.edu/blog/people/terri-l-young-md-mba/"><b>Terri Young\, MD\, MBA</
 b></a></p><p style="text-align: center\;"><strong>Professor of Ophthalmolog
 y\, Department Chair of Ophthalmology and Visual Sciences</strong></p><p st
 yle="text-align: center\;"><strong>University of Wisconsin - Madison</stron
 g></p><p style="text-align: center\;">Please contact <a href="mailto:macey.
 alexander@wustl.edu">macey.alexander@wustl.edu</a> for Zoom details</p>
CATEGORIES:All,Vision Science Seminar,Visiting Professor
LOCATION:Zoom Platform
GEO:41.875562;-87.624421
ORGANIZER;CN="Macey":MAILTO:macey.alexander@wustl.edu
URL;VALUE=URI:https://ophthalmology.wustl.edu/calendar/event/vision-science
 -seminar-62/
END:VEVENT
BEGIN:VTIMEZONE
TZID:America/Chicago
BEGIN:DAYLIGHT
TZOFFSETFROM:-0600
TZOFFSETTO:-0500
DTSTART:20210314T080000
TZNAME:CDT
END:DAYLIGHT
END:VTIMEZONE
END:VCALENDAR
