BEGIN:VCALENDAR
VERSION:2.0
PRODID:-//Ophthalmology &amp; Visual Sciences//NONSGML Events//EN
CALSCALE:GREGORIAN
X-ORIGINAL-URL:https://ophthalmology.wustl.edu/calendar/
X-WR-CALDESC:Ophthalmology &amp; Visual Sciences - Events
BEGIN:VEVENT
UID:20210928T0443Z-1632804201.181-EO-8366-1@172.23.128.18
STATUS:CONFIRMED
DTSTAMP:20260419T055036Z
CREATED:20200814T205201Z
LAST-MODIFIED:20210309T223923Z
DTSTART;TZID=America/Chicago:20210318T100000
DTEND;TZID=America/Chicago:20210318T110000
SUMMARY: Vision Science Seminar
DESCRIPTION: Vision Science Seminar “Diabetic Corneas: Delayed Wound Healin
 g\, Impaired Sensory Neuron Regeneration and Increased Susceptibility to Mi
 crobial Infection” Presented By Fu-Shin Yu\, PhD Professor of Ophthalmology
  and Anatomy/Cell Biology Wayne State University Please contact macey.alexa
 nder@wustl.edu for Zoom details
X-ALT-DESC;FMTTYPE=text/html: <h3 style="text-align: center\;">Vision Scien
 ce Seminar</h3><h4 style="text-align: center\;"><em>"Diabetic Corneas: Dela
 yed Wound Healing\, Impaired Sensory Neuron Regeneration and Increased Susc
 eptibility to Microbial Infection"</em></h4><p style="text-align: center\;"
 ><strong>Presented By</strong></p><p style="text-align: center\;"><strong><
 a href="https://anatomy.med.wayne.edu/profile/av3899">Fu-Shin Yu\, PhD</a><
 /strong></p><p style="text-align: center\;"><strong>Professor of Ophthalmol
 ogy and Anatomy/Cell Biology</strong></p><p style="text-align: center\;"><b
 >Wayne State University</b></p><p style="text-align: center\;">Please conta
 ct <a href="mailto:macey.alexander@wustl.edu">macey.alexander@wustl.edu</a>
  for Zoom details</p>
CATEGORIES:All,Vision Science Seminar,Visiting Professor
LOCATION:Zoom Platform
GEO:41.875562;-87.624421
ORGANIZER;CN="Macey":MAILTO:macey.alexander@wustl.edu
URL;VALUE=URI:https://ophthalmology.wustl.edu/calendar/event/vision-science
 -seminar-63/
END:VEVENT
BEGIN:VTIMEZONE
TZID:America/Chicago
BEGIN:DAYLIGHT
TZOFFSETFROM:-0600
TZOFFSETTO:-0500
DTSTART:20210314T080000
TZNAME:CDT
END:DAYLIGHT
END:VTIMEZONE
END:VCALENDAR
