BEGIN:VCALENDAR
VERSION:2.0
PRODID:-//Ophthalmology &amp; Visual Sciences//NONSGML Events//EN
CALSCALE:GREGORIAN
X-ORIGINAL-URL:https://ophthalmology.wustl.edu/calendar/
X-WR-CALDESC:Ophthalmology &amp; Visual Sciences - Events
BEGIN:VEVENT
UID:20210928T0443Z-1632804200.6895-EO-8369-1@172.23.128.18
STATUS:CONFIRMED
DTSTAMP:20260424T201028Z
CREATED:20210318T091851Z
LAST-MODIFIED:20210318T211853Z
DTSTART;TZID=America/Chicago:20210325T100000
DTEND;TZID=America/Chicago:20210325T110000
SUMMARY: Vision Science Seminar
DESCRIPTION: Vision Science Seminar “Neuroimmune Regulation of Itch” Presen
 ted By Brian Kim\, MD Associate Professor of Dermatology Washington Univers
 ity School of Medicine Please contact macey.alexander@wustl.edu for Zoom de
 tails
X-ALT-DESC;FMTTYPE=text/html: <h3 style="text-align: center\;">Vision Scien
 ce Seminar</h3><h4 style="text-align: center\;"><em>"Neuroimmune Regulation
  of Itch"</em></h4><p style="text-align: center\;"><strong>Presented By</st
 rong></p><p style="text-align: center\;"><a href="https://dermatology.wustl
 .edu/people/brian-kim-md/"><strong>Brian Kim\, MD</strong></a></p><p style=
 "text-align: center\;"><strong>Associate Professor of Dermatology</strong><
 /p><p style="text-align: center\;"><b>Washington University School of Medic
 ine</b></p><p style="text-align: center\;">Please contact <a href="mailto:m
 acey.alexander@wustl.edu">macey.alexander@wustl.edu</a> for Zoom details</p
 >
CATEGORIES:All,Vision Science Seminar
LOCATION:Zoom Platform
GEO:41.875562;-87.624421
ORGANIZER;CN="Macey":MAILTO:macey.alexander@wustl.edu
URL;VALUE=URI:https://ophthalmology.wustl.edu/calendar/event/vision-science
 -seminar-64/
END:VEVENT
BEGIN:VTIMEZONE
TZID:America/Chicago
BEGIN:DAYLIGHT
TZOFFSETFROM:-0600
TZOFFSETTO:-0500
DTSTART:20210314T080000
TZNAME:CDT
END:DAYLIGHT
END:VTIMEZONE
END:VCALENDAR
