BEGIN:VCALENDAR
VERSION:2.0
PRODID:-//Ophthalmology &amp; Visual Sciences//NONSGML Events//EN
CALSCALE:GREGORIAN
X-ORIGINAL-URL:https://ophthalmology.wustl.edu/calendar/
X-WR-CALDESC:Ophthalmology &amp; Visual Sciences - Events
BEGIN:VEVENT
UID:20210928T0443Z-1632804200.7361-EO-8372-1@172.23.128.18
STATUS:CONFIRMED
DTSTAMP:20260423T115622Z
CREATED:20200814T205535Z
LAST-MODIFIED:20210322T160805Z
DTSTART;TZID=America/Chicago:20210401T100000
DTEND;TZID=America/Chicago:20210401T110000
SUMMARY: Vision Science Seminar
DESCRIPTION: Vision Science Seminar “Context-dependent Motion Processing in
  the Retina” Presented By Wei Wei\, PhD Associate Professor in Neurobiology
  University of Chicago Please contact macey.alexander@wustl.edu for Zoom de
 tails
X-ALT-DESC;FMTTYPE=text/html: <h3 style="text-align: center\;">Vision Scien
 ce Seminar</h3><h4 style="text-align: center\;"><em>"Context-dependent Moti
 on Processing in the Retina"</em></h4><p style="text-align: center\;"><stro
 ng>Presented By</strong></p><p style="text-align: center\;"><a href="https:
 //neurograd.uchicago.edu/program/faculty/wei-wei"><b>Wei Wei\, PhD</b></a><
 /p><p style="text-align: center\;"><strong>Associate Professor in Neurobiol
 ogy</strong></p><p style="text-align: center\;"><strong>University of Chica
 go</strong></p><p style="text-align: center\;">Please contact <a href="mail
 to:macey.alexander@wustl.edu">macey.alexander@wustl.edu</a> for Zoom detail
 s</p>
CATEGORIES:All,Vision Science Seminar,Visiting Professor
LOCATION:Zoom Platform
GEO:41.875562;-87.624421
ORGANIZER;CN="Macey":MAILTO:macey.alexander@wustl.edu
URL;VALUE=URI:https://ophthalmology.wustl.edu/calendar/event/vision-science
 -seminar-65/
END:VEVENT
BEGIN:VTIMEZONE
TZID:America/Chicago
BEGIN:DAYLIGHT
TZOFFSETFROM:-0600
TZOFFSETTO:-0500
DTSTART:20210314T080000
TZNAME:CDT
END:DAYLIGHT
END:VTIMEZONE
END:VCALENDAR
