BEGIN:VCALENDAR
VERSION:2.0
PRODID:-//Ophthalmology &amp; Visual Sciences//NONSGML Events//EN
CALSCALE:GREGORIAN
X-ORIGINAL-URL:https://ophthalmology.wustl.edu/calendar/
X-WR-CALDESC:Ophthalmology &amp; Visual Sciences - Events
BEGIN:VEVENT
UID:20210928T0443Z-1632804200.0771-EO-8375-1@172.23.128.18
STATUS:CONFIRMED
DTSTAMP:20260423T175746Z
CREATED:20200814T205728Z
LAST-MODIFIED:20210331T194352Z
DTSTART;TZID=America/Chicago:20210408T100000
DTEND;TZID=America/Chicago:20210408T110000
SUMMARY: Vision Science Seminar
DESCRIPTION: Vision Science Seminar “Pharmacological Studies of Rhodopsin M
 etabolism” Presented By Yuanyuan Chen\, PhD Assistant Professor of Ophthalm
 ology University of Pittsburgh Please contact macey.alexander@wustl.edu for
  Zoom details
X-ALT-DESC;FMTTYPE=text/html: <h3 style="text-align: center\;">Vision Scien
 ce Seminar</h3><h4 style="text-align: center\;"><em>"Pharmacological Studie
 s of Rhodopsin Metabolism"</em></h4><p style="text-align: center\;"><strong
 >Presented By</strong></p><p style="text-align: center\;"><a href="https://
 ophthalmology.pitt.edu/people/yuanyuan-chen-phd"><b>Yuanyuan Chen\, PhD</b>
 </a></p><p style="text-align: center\;"><strong>Assistant Professor of Opht
 halmology</strong></p><p style="text-align: center\;"><strong>University of
  Pittsburgh</strong></p><p style="text-align: center\;">Please contact <a h
 ref="mailto:macey.alexander@wustl.edu">macey.alexander@wustl.edu</a> for Zo
 om details</p>
CATEGORIES:All,Vision Science Seminar,Visiting Professor
LOCATION:Zoom Platform
GEO:41.875562;-87.624421
ORGANIZER;CN="Macey":MAILTO:macey.alexander@wustl.edu
URL;VALUE=URI:https://ophthalmology.wustl.edu/calendar/event/vision-science
 -seminar-66/
END:VEVENT
BEGIN:VTIMEZONE
TZID:America/Chicago
BEGIN:DAYLIGHT
TZOFFSETFROM:-0600
TZOFFSETTO:-0500
DTSTART:20210314T080000
TZNAME:CDT
END:DAYLIGHT
END:VTIMEZONE
END:VCALENDAR
