BEGIN:VCALENDAR
VERSION:2.0
PRODID:-//Ophthalmology &amp; Visual Sciences//NONSGML Events//EN
CALSCALE:GREGORIAN
X-ORIGINAL-URL:https://ophthalmology.wustl.edu/calendar/
X-WR-CALDESC:Ophthalmology &amp; Visual Sciences - Events
BEGIN:VEVENT
UID:20210928T0443Z-1632804190.7804-EO-8378-1@172.23.128.18
STATUS:CONFIRMED
DTSTAMP:20260419T055035Z
CREATED:20200814T205911Z
LAST-MODIFIED:20210414T194635Z
DTSTART;TZID=America/Chicago:20210422T100000
DTEND;TZID=America/Chicago:20210422T110000
SUMMARY: Vision Science Seminar
DESCRIPTION: Vision Science Seminar “Genomic Roadmaps Forge Pathways to Vis
 ion” Presented By Robert Hufnagel\, MD\, PhD Director of Ophthalmic Genomic
 s Laboratory and Chief of Medical Genetics and Ophthalmic Genomics Unit of 
 the National Eye Institute National Institutes of Health Please contact mac
 ey.alexander@wustl.edu for Zoom details
X-ALT-DESC;FMTTYPE=text/html: <h3 style="text-align: center\;">Vision Scien
 ce Seminar</h3><h4 style="text-align: center\;"><em>"Genomic Roadmaps Forge
  Pathways to Vision"</em></h4><p style="text-align: center\;"><strong>Prese
 nted By</strong></p><p style="text-align: center\;"><a href="https://www.ne
 i.nih.gov/research/research-labs-and-branches/we-are-nei-intramural/robert-
 hufnagel"><b>Robert Hufnagel\, MD\, PhD</b></a></p><p style="text-align: ce
 nter\;"><strong>Director of Ophthalmic Genomics Laboratory and Chief of Med
 ical Genetics and Ophthalmic Genomics Unit of the National Eye Institute</s
 trong></p><p style="text-align: center\;"><strong> National Institutes of H
 ealth</strong></p><p style="text-align: center\;">Please contact <a href="m
 ailto:macey.alexander@wustl.edu">macey.alexander@wustl.edu</a> for Zoom det
 ails</p>
CATEGORIES:All,Vision Science Seminar,Visiting Professor
LOCATION:Zoom Platform
GEO:41.875562;-87.624421
ORGANIZER;CN="Macey":MAILTO:macey.alexander@wustl.edu
URL;VALUE=URI:https://ophthalmology.wustl.edu/calendar/event/vision-science
 -seminar-67/
END:VEVENT
BEGIN:VTIMEZONE
TZID:America/Chicago
BEGIN:DAYLIGHT
TZOFFSETFROM:-0600
TZOFFSETTO:-0500
DTSTART:20210314T080000
TZNAME:CDT
END:DAYLIGHT
END:VTIMEZONE
END:VCALENDAR
