BEGIN:VCALENDAR
VERSION:2.0
PRODID:-//Ophthalmology &amp; Visual Sciences//NONSGML Events//EN
CALSCALE:GREGORIAN
X-ORIGINAL-URL:https://ophthalmology.wustl.edu/calendar/
X-WR-CALDESC:Ophthalmology &amp; Visual Sciences - Events
BEGIN:VEVENT
UID:20230825T2121Z-1692998463.7809-EO-22181-1@172.23.128.18
STATUS:CONFIRMED
DTSTAMP:20260419T055057Z
CREATED:20230822T143214Z
LAST-MODIFIED:20231003T165824Z
DTSTART;TZID=America/Chicago:20231019T100000
DTEND;TZID=America/Chicago:20231019T110000
SUMMARY: *CANCELED* Vision Science Seminar
DESCRIPTION: *CANCELED* Vision Science Seminar “Exploring vision restoratio
 n in the fovea with adaptive optics retinal imaging” Juliette E. McGregor\,
  Ph.D. Assistant Professor\, Department of Ophthalmology University of Roch
 ester Medical Center School of Medicine and Dentistry *Please contact mario
 nt@wustl.edu for Zoom details  
X-ALT-DESC;FMTTYPE=text/html: <h2 style="text-align: center\;">*CANCELED*</
 h2><h2 style="text-align: center\;"><strong>Vision Science Seminar</strong>
 </h2><p style="text-align: center\;"><em>"Exploring vision restoration in t
 he fovea with adaptive optics retinal imaging"</em></p><h4 style="text-alig
 n: center\;"><a href="https://www.urmc.rochester.edu/people/30293588-juliet
 te-e-mcgregor">Juliette E. McGregor\, Ph.D.</a></h4><p style="text-align: c
 enter\;">Assistant Professor\, Department of Ophthalmology</p><p style="tex
 t-align: center\;">University of Rochester Medical Center<br />School of Me
 dicine and Dentistry</p><p class="disclaimer" style="text-align: center\;">
 *Please contact <a href="mailto:mariont@wustl.edu">mariont@wustl.edu</a> fo
 r Zoom details</p><p> </p>
CATEGORIES:Vision Science Seminar
LOCATION:Bernard Becker Medical Library\, Becker Classroom 405
GEO:38.634579;-90.263109
ORGANIZER;CN="Marion":MAILTO:mariont@wustl.edu
URL;VALUE=URI:https://ophthalmology.wustl.edu/calendar/event/vision-science
 -seminar-73/
ATTACH;FMTTYPE=image/png:https://ophthalmology.wustl.edu/app/uploads/2023/08/VSS-2.png
END:VEVENT
BEGIN:VTIMEZONE
TZID:America/Chicago
BEGIN:DAYLIGHT
TZOFFSETFROM:-0600
TZOFFSETTO:-0500
DTSTART:20230312T080000
TZNAME:CDT
END:DAYLIGHT
END:VTIMEZONE
END:VCALENDAR
