BEGIN:VCALENDAR
VERSION:2.0
PRODID:-//Ophthalmology &amp; Visual Sciences//NONSGML Events//EN
CALSCALE:GREGORIAN
X-ORIGINAL-URL:https://ophthalmology.wustl.edu/calendar/
X-WR-CALDESC:Ophthalmology &amp; Visual Sciences - Events
BEGIN:VEVENT
UID:20230825T2127Z-1692998845.9839-EO-22183-1@172.23.128.18
STATUS:CONFIRMED
DTSTAMP:20260423T145133Z
CREATED:20230822T144102Z
LAST-MODIFIED:20230913T145931Z
DTSTART;TZID=America/Chicago:20231026T100000
DTEND;TZID=America/Chicago:20231026T110000
SUMMARY: Vision Science Seminar
DESCRIPTION: Vision Science Seminar “Building and Maintaining a Healthy Ret
 ina” Ryan MacDonald\, PhD Associate Professor/BBSRC David Phillips Fellow I
 nstitute of Ophthalmology- University College London *Please contact marion
 t@wustl.edu for Zoom details
X-ALT-DESC;FMTTYPE=text/html: <h2 style="text-align: center\;"><strong>Visi
 on Science Seminar</strong></h2><blockquote><p style="text-align: center\;"
 ><strong>"Building and Maintaining a Healthy Retina"</strong></p></blockquo
 te><h4 style="text-align: center\;"><a href="http://zebrafishucl.org/macdon
 ald-lab#macdonald-research">Ryan MacDonald\, PhD</a></h4><p class="top-card
 -layout__headline break-words font-sans text-md leading-open text-color-tex
 t" style="text-align: center\;">Associate Professor/BBSRC David Phillips Fe
 llow</p><p class="top-card-layout__headline break-words font-sans text-md l
 eading-open text-color-text" style="text-align: center\;">Institute of Opht
 halmology- University College London</p><p class="disclaimer" style="text-a
 lign: center\;">*Please contact <a href="mailto:mariont@wustl.edu">mariont@
 wustl.edu</a> for Zoom details</p>
CATEGORIES:All,Vision Science Seminar
LOCATION:Bernard Becker Medical Library\, Becker Classroom 405
GEO:38.634579;-90.263109
ORGANIZER;CN="Marion":MAILTO:mariont@wustl.edu
URL;VALUE=URI:https://ophthalmology.wustl.edu/calendar/event/vision-science
 -seminar-74/
ATTACH;FMTTYPE=image/png:https://ophthalmology.wustl.edu/app/uploads/2023/08/VSS-2.png
END:VEVENT
BEGIN:VTIMEZONE
TZID:America/Chicago
BEGIN:DAYLIGHT
TZOFFSETFROM:-0600
TZOFFSETTO:-0500
DTSTART:20230312T080000
TZNAME:CDT
END:DAYLIGHT
END:VTIMEZONE
END:VCALENDAR
