BEGIN:VCALENDAR
VERSION:2.0
PRODID:-//Ophthalmology &amp; Visual Sciences//NONSGML Events//EN
CALSCALE:GREGORIAN
X-ORIGINAL-URL:https://ophthalmology.wustl.edu/calendar/
X-WR-CALDESC:Ophthalmology &amp; Visual Sciences - Events
BEGIN:VEVENT
UID:20230824T0651Z-1692859897.1925-EO-22187-1@172.23.128.18
STATUS:CONFIRMED
DTSTAMP:20260419T055058Z
CREATED:20230822T160615Z
LAST-MODIFIED:20230913T145537Z
DTSTART;TZID=America/Chicago:20231116T100000
DTEND;TZID=America/Chicago:20231116T110000
SUMMARY: Vision Science Seminar
DESCRIPTION: Vision Science Seminar “Genetic and microscopy strategies to s
 tudy primary cilia” Jing Hughes\, MD\, PhD Assistant Professor\, Department
  of Medicine Washington School of Medicine
X-ALT-DESC;FMTTYPE=text/html: <h5 style="text-align: center\;"><strong>Visi
 on Science Seminar</strong></h5><p style="text-align: center\;"><strong>“Ge
 netic and microscopy strategies to study primary cilia”</strong></p><p styl
 e="text-align: center\;"><a href="https://endocrinology.wustl.edu/people/ji
 ng-hughes-md-phd/">Jing Hughes\, MD\, PhD</a></p><p style="text-align: cent
 er\;">Assistant Professor\, Department of Medicine<br />Washington School o
 f Medicine</p>
CATEGORIES:Vision Science Seminar
LOCATION:Bernard Becker Medical Library\, Becker Classroom 405
GEO:38.634579;-90.263109
ORGANIZER;CN="Marion":MAILTO:mariont@wustl.edu
URL;VALUE=URI:https://ophthalmology.wustl.edu/calendar/event/vision-science
 -seminar-75/
END:VEVENT
BEGIN:VTIMEZONE
TZID:America/Chicago
BEGIN:STANDARD
TZOFFSETFROM:-0500
TZOFFSETTO:-0600
DTSTART:20231105T070000
TZNAME:CST
END:STANDARD
END:VTIMEZONE
END:VCALENDAR
