BEGIN:VCALENDAR
VERSION:2.0
PRODID:-//Ophthalmology &amp; Visual Sciences//NONSGML Events//EN
CALSCALE:GREGORIAN
X-ORIGINAL-URL:https://ophthalmology.wustl.edu/calendar/
X-WR-CALDESC:Ophthalmology &amp; Visual Sciences - Events
BEGIN:VEVENT
UID:20230824T0602Z-1692856953.6382-EO-22192-1@172.23.128.18
STATUS:CONFIRMED
DTSTAMP:20260419T055058Z
CREATED:20230822T200040Z
LAST-MODIFIED:20230913T145539Z
DTSTART;TZID=America/Chicago:20231130T100000
DTEND;TZID=America/Chicago:20231130T110000
SUMMARY: Vision Science Seminar
DESCRIPTION: Vision Science Seminar “Tale of two drugs: Developing novel th
 erapeutics to treat glaucoma”  Michael Faustch\, PhD Joseph E. and Rose Mar
 ie Green Professor of Visual Sciences Department of Ophthalmology Mayo Clin
 ic
X-ALT-DESC;FMTTYPE=text/html: <h5 style="text-align: center\;"><strong>Visi
 on Science Seminar</strong></h5><p style="text-align: center\;"><em>"Tale o
 f two drugs: Developing novel therapeutics to treat glaucoma" </em></p><p s
 tyle="text-align: center\;"><a href="https://www.mayo.edu/research/faculty/
 fautsch-michael-p-ph-d/bio-00026344">Michael Faustch\, PhD</a></p><p style=
 "text-align: center\;">Joseph E. and Rose Marie Green Professor of Visual S
 ciences</p><p style="text-align: center\;">Department of Ophthalmology</p><
 p style="text-align: center\;">Mayo Clinic</p>
CATEGORIES:Vision Science Seminar
LOCATION:Bernard Becker Medical Library\, Becker Classroom 405
GEO:38.634579;-90.263109
ORGANIZER;CN="Marion":MAILTO:mariont@wustl.edu
URL;VALUE=URI:https://ophthalmology.wustl.edu/calendar/event/vision-science
 -seminar-76/
END:VEVENT
BEGIN:VTIMEZONE
TZID:America/Chicago
BEGIN:STANDARD
TZOFFSETFROM:-0500
TZOFFSETTO:-0600
DTSTART:20231105T070000
TZNAME:CST
END:STANDARD
END:VTIMEZONE
END:VCALENDAR
