BEGIN:VCALENDAR
VERSION:2.0
PRODID:-//Ophthalmology &amp; Visual Sciences//NONSGML Events//EN
CALSCALE:GREGORIAN
X-ORIGINAL-URL:https://ophthalmology.wustl.edu/calendar/
X-WR-CALDESC:Ophthalmology &amp; Visual Sciences - Events
BEGIN:VEVENT
UID:20230930T0207Z-1696039671.9252-EO-22307-1@172.23.128.18
STATUS:CONFIRMED
DTSTAMP:20260419T055057Z
CREATED:20230913T190802Z
LAST-MODIFIED:20231129T180400Z
DTSTART;TZID=America/Chicago:20231207T100000
DTEND;TZID=America/Chicago:20231207T110000
SUMMARY: Vision Science Seminar
DESCRIPTION: Vision Science Seminar “Activity-dependent synaptic remodeling
  isolates mistargeted retinal ganglion cell axons.” Josh Morgan\, PhD Assis
 tant Professor Ophthalmology and Visual Sciences WUSTL  
X-ALT-DESC;FMTTYPE=text/html: <h2 style="text-align: center\;">Vision Scien
 ce Seminar</h2><blockquote><p><em>"Activity-dependent synaptic<br />remodel
 ing isolates mistargeted<br />retinal ganglion cell axons."</em></p></block
 quote><h4 style="text-align: center\;"><a href="https://ophthalmology.wustl
 .edu/people/joshua-morgan-phd/">Josh Morgan\, PhD</a></h4><h5 style="text-a
 lign: center\;">Assistant Professor</h5><h5 style="text-align: center\;">Op
 hthalmology and Visual Sciences</h5><h5 style="text-align: center\;">WUSTL<
 /h5><p> </p>
CATEGORIES:Vision Science Seminar
LOCATION:Bernard Becker Medical Library\, Becker Classroom 405
GEO:38.634579;-90.263109
ORGANIZER;CN="Marion":MAILTO:mariont@wustl.edu
URL;VALUE=URI:https://ophthalmology.wustl.edu/calendar/event/vision-science
 -seminar-77/
END:VEVENT
BEGIN:VTIMEZONE
TZID:America/Chicago
BEGIN:STANDARD
TZOFFSETFROM:-0500
TZOFFSETTO:-0600
DTSTART:20231105T070000
TZNAME:CST
END:STANDARD
END:VTIMEZONE
END:VCALENDAR
